BEGIN:VCALENDAR
VERSION:2.0
PRODID:-//Klima- und Bodenbündnis St Marien - ECPv6.15.20//NONSGML v1.0//EN
CALSCALE:GREGORIAN
METHOD:PUBLISH
X-ORIGINAL-URL:https://klima-stmarien.at
X-WR-CALDESC:Veranstaltungen für Klima- und Bodenbündnis St Marien
REFRESH-INTERVAL;VALUE=DURATION:PT1H
X-Robots-Tag:noindex
X-PUBLISHED-TTL:PT1H
BEGIN:VTIMEZONE
TZID:Europe/Vienna
BEGIN:DAYLIGHT
TZOFFSETFROM:+0100
TZOFFSETTO:+0200
TZNAME:CEST
DTSTART:20190331T010000
END:DAYLIGHT
BEGIN:STANDARD
TZOFFSETFROM:+0200
TZOFFSETTO:+0100
TZNAME:CET
DTSTART:20191027T010000
END:STANDARD
BEGIN:DAYLIGHT
TZOFFSETFROM:+0100
TZOFFSETTO:+0200
TZNAME:CEST
DTSTART:20200329T010000
END:DAYLIGHT
BEGIN:STANDARD
TZOFFSETFROM:+0200
TZOFFSETTO:+0100
TZNAME:CET
DTSTART:20201025T010000
END:STANDARD
BEGIN:DAYLIGHT
TZOFFSETFROM:+0100
TZOFFSETTO:+0200
TZNAME:CEST
DTSTART:20210328T010000
END:DAYLIGHT
BEGIN:STANDARD
TZOFFSETFROM:+0200
TZOFFSETTO:+0100
TZNAME:CET
DTSTART:20211031T010000
END:STANDARD
END:VTIMEZONE
BEGIN:VEVENT
DTSTART;TZID=Europe/Vienna:20200909T190000
DTEND;TZID=Europe/Vienna:20200909T210000
DTSTAMP:20260424T231800
CREATED:20200903T142744Z
LAST-MODIFIED:20200903T142744Z
UID:238-1599678000-1599685200@klima-stmarien.at
SUMMARY:Klima-Stammtisch
DESCRIPTION:Thema des 3. Klima-Stammtisches wird „Verkehr / Mobilität“ sein. \n\nFakten-Check: CO2-Emissionen im Verkehrssektor\, Vergleich Emissionen verschiedener Verkehrsmittel\nFliegen wir in die Klimakrise?\nKlimafreundliches Reisen\nIst das E-Auto DIE Lösung? Fakten und Mythen zum E-Auto.\nCar-Sharing\nÖffis – das geht bei uns nicht!?\nIdeen für St. Marien\n\nMitzubringen:  \n\nWertschätzung und Toleranz für verschiedene Meinungen\nMund-Nasen-Schutz
URL:https://klima-stmarien.at/termin/klima-stammtisch/
LOCATION:KIMST\, St. Marien 35\, St. Marien\, 4502\, Austria
CATEGORIES:Klima-Stammtisch
END:VEVENT
END:VCALENDAR