BEGIN:VCALENDAR
VERSION:2.0
PRODID:-//Klima- und Bodenbündnis St Marien - ECPv6.15.20//NONSGML v1.0//EN
CALSCALE:GREGORIAN
METHOD:PUBLISH
X-WR-CALNAME:Klima- und Bodenbündnis St Marien
X-ORIGINAL-URL:https://klima-stmarien.at
X-WR-CALDESC:Veranstaltungen für Klima- und Bodenbündnis St Marien
REFRESH-INTERVAL;VALUE=DURATION:PT1H
X-Robots-Tag:noindex
X-PUBLISHED-TTL:PT1H
BEGIN:VTIMEZONE
TZID:Europe/Vienna
BEGIN:DAYLIGHT
TZOFFSETFROM:+0100
TZOFFSETTO:+0200
TZNAME:CEST
DTSTART:20190331T010000
END:DAYLIGHT
BEGIN:STANDARD
TZOFFSETFROM:+0200
TZOFFSETTO:+0100
TZNAME:CET
DTSTART:20191027T010000
END:STANDARD
BEGIN:DAYLIGHT
TZOFFSETFROM:+0100
TZOFFSETTO:+0200
TZNAME:CEST
DTSTART:20200329T010000
END:DAYLIGHT
BEGIN:STANDARD
TZOFFSETFROM:+0200
TZOFFSETTO:+0100
TZNAME:CET
DTSTART:20201025T010000
END:STANDARD
BEGIN:DAYLIGHT
TZOFFSETFROM:+0100
TZOFFSETTO:+0200
TZNAME:CEST
DTSTART:20210328T010000
END:DAYLIGHT
BEGIN:STANDARD
TZOFFSETFROM:+0200
TZOFFSETTO:+0100
TZNAME:CET
DTSTART:20211031T010000
END:STANDARD
END:VTIMEZONE
BEGIN:VEVENT
DTSTART;TZID=Europe/Vienna:20200918T170000
DTEND;TZID=Europe/Vienna:20200918T180000
DTSTAMP:20260425T192916
CREATED:20200914T175411Z
LAST-MODIFIED:20200920T052111Z
UID:246-1600448400-1600452000@klima-stmarien.at
SUMMARY:Mein Ort für die Zukunft
DESCRIPTION:Auch dieses Jahr beteiligen wir uns an der Fridays For Future-Aktion „Mein Ort für die Zukunft“\, um auf die Klimakrise aufmerksam zu machen und die politischen Rahmenbedingungen zur Bekämpfung dieser einzufordern. Wir treffen uns am Parkplatz vor der Gemeinde. Nach der Begrüßung und Erklärung marschieren wir zum Ortschild bei der Forstner Mühle und machen ein Foto davor. \nDetails zum Hintergrund der Aktion findet ihr unter https://fridaysforfuture.at/deinortfordert2020. \n \n„Die Klimakrise betrifft uns alle: in jedem Land\, jeder Stadt\, jeder Gemeinde und jedem Ort! Wir zeigen\, dass wir nicht mehr länger warten können\, sondern unsere Notlage anerkennen und dementsprechend handeln müssen. Wir fordern\, dass jede Krise wie eine Krise behandelt werden muss. Damit der Politik klar wird\, dass die Corona-Krise mit der Klimakrise gedacht werden muss um nicht in die Klimakatastrophe zu schlittern\, bauen wir am 18. September mit Aktionen in ganz Österreichs öffentlichen Druck auf! #treateverycrisislikeacrisis #actnow“ \nCOVID-19-Hinweis: wir halten uns an die gesetzlichen Hygiene- und Abstandsbestimmungen\, insbesondere das Tragen eines MNS wenn die geforderten Abstände nicht eingehalten werden können!
URL:https://klima-stmarien.at/termin/mein-ort-fur-die-zukunft/
LOCATION:Parkplatz Gemeinde St. Marien\, St. Marien 1\, St. Marien\, 4502\, Austria
ORGANIZER;CN="Josef Winter":MAILTO:josef.winter@land-net.at
END:VEVENT
END:VCALENDAR