BEGIN:VCALENDAR
VERSION:2.0
PRODID:-//Klima- und Bodenbündnis St Marien - ECPv6.15.20//NONSGML v1.0//EN
CALSCALE:GREGORIAN
METHOD:PUBLISH
X-ORIGINAL-URL:https://klima-stmarien.at
X-WR-CALDESC:Veranstaltungen für Klima- und Bodenbündnis St Marien
REFRESH-INTERVAL;VALUE=DURATION:PT1H
X-Robots-Tag:noindex
X-PUBLISHED-TTL:PT1H
BEGIN:VTIMEZONE
TZID:Europe/Vienna
BEGIN:DAYLIGHT
TZOFFSETFROM:+0100
TZOFFSETTO:+0200
TZNAME:CEST
DTSTART:20250330T010000
END:DAYLIGHT
BEGIN:STANDARD
TZOFFSETFROM:+0200
TZOFFSETTO:+0100
TZNAME:CET
DTSTART:20251026T010000
END:STANDARD
BEGIN:DAYLIGHT
TZOFFSETFROM:+0100
TZOFFSETTO:+0200
TZNAME:CEST
DTSTART:20260329T010000
END:DAYLIGHT
BEGIN:STANDARD
TZOFFSETFROM:+0200
TZOFFSETTO:+0100
TZNAME:CET
DTSTART:20261025T010000
END:STANDARD
BEGIN:DAYLIGHT
TZOFFSETFROM:+0100
TZOFFSETTO:+0200
TZNAME:CEST
DTSTART:20270328T010000
END:DAYLIGHT
BEGIN:STANDARD
TZOFFSETFROM:+0200
TZOFFSETTO:+0100
TZNAME:CET
DTSTART:20271031T010000
END:STANDARD
END:VTIMEZONE
BEGIN:VEVENT
DTSTART;TZID=Europe/Vienna:20260309T190000
DTEND;TZID=Europe/Vienna:20260309T210000
DTSTAMP:20260421T005919
CREATED:20260110T133308Z
LAST-MODIFIED:20260308T061059Z
UID:1435-1773082800-1773090000@klima-stmarien.at
SUMMARY:Kräutertreff März
DESCRIPTION:“Schottergarten”\nSchottergarten adé: Erfahre\, wie dein Garten bunt und pflegeleicht erblüht! \nReferentin: DIin Renate Leitinger (Bodenbündnis OÖ) \n19:00 Uhr – Kräutertreff im GH Luger \nInfo: Gemeinde St. Marien\nBürgerservice\, 07227 8155-10\nFr. Heidi Ruf\, 0699 814 235 52 \nFlyer Kräutertreff März 2026
URL:https://klima-stmarien.at/termin/kraeutertreff-2026-03/
LOCATION:Gasthaus Luger\, St. Marien 10\, St. Marien\, 4502
CATEGORIES:Kräutertreff
END:VEVENT
BEGIN:VEVENT
DTSTART;TZID=Europe/Vienna:20260323T190000
DTEND;TZID=Europe/Vienna:20260323T210000
DTSTAMP:20260421T005919
CREATED:20260308T060437Z
LAST-MODIFIED:20260308T082006Z
UID:1472-1774292400-1774299600@klima-stmarien.at
SUMMARY:Treffen des Arbeitskreises Klima- und Bodenbündnis
DESCRIPTION:„Es hängt nicht alles von dir ab\, aber es kommt auf dich an.“\nDu möchtest dich bei uns im Arbeitskreis mit engagieren? Deine Tatkraft und Ideen sind herzlich willkommen! Dann komm zum nächsten Arbeitskreis-Treffen am 23. März um 19 Uhr ins KIMST! \nRückfragen an: \nAlexandra Ziegler\, ziegler.killinger@gmx.at oder 0650/6002288\nSylvia Bina-Waldl\, africa.251@outlook.at oder 0664/2040203\nMaria Schöller\, schoeller.maria@gmail.com oder 0650/7902727
URL:https://klima-stmarien.at/termin/treffen-des-arbeitskreises-klima-und-bodenbuendnis-2026-03-23/
LOCATION:KIMST\, St. Marien 35\, St. Marien\, 4502\, Austria
CATEGORIES:sonstiges
END:VEVENT
END:VCALENDAR