BEGIN:VCALENDAR
VERSION:2.0
PRODID:-//Klima- und Bodenbündnis St Marien - ECPv6.15.20//NONSGML v1.0//EN
CALSCALE:GREGORIAN
METHOD:PUBLISH
X-ORIGINAL-URL:https://klima-stmarien.at
X-WR-CALDESC:Veranstaltungen für Klima- und Bodenbündnis St Marien
REFRESH-INTERVAL;VALUE=DURATION:PT1H
X-Robots-Tag:noindex
X-PUBLISHED-TTL:PT1H
BEGIN:VTIMEZONE
TZID:Europe/Vienna
BEGIN:DAYLIGHT
TZOFFSETFROM:+0100
TZOFFSETTO:+0200
TZNAME:CEST
DTSTART:20240331T010000
END:DAYLIGHT
BEGIN:STANDARD
TZOFFSETFROM:+0200
TZOFFSETTO:+0100
TZNAME:CET
DTSTART:20241027T010000
END:STANDARD
BEGIN:DAYLIGHT
TZOFFSETFROM:+0100
TZOFFSETTO:+0200
TZNAME:CEST
DTSTART:20250330T010000
END:DAYLIGHT
BEGIN:STANDARD
TZOFFSETFROM:+0200
TZOFFSETTO:+0100
TZNAME:CET
DTSTART:20251026T010000
END:STANDARD
BEGIN:DAYLIGHT
TZOFFSETFROM:+0100
TZOFFSETTO:+0200
TZNAME:CEST
DTSTART:20260329T010000
END:DAYLIGHT
BEGIN:STANDARD
TZOFFSETFROM:+0200
TZOFFSETTO:+0100
TZNAME:CET
DTSTART:20261025T010000
END:STANDARD
END:VTIMEZONE
BEGIN:VEVENT
DTSTART;TZID=Europe/Vienna:20250405T083000
DTEND;TZID=Europe/Vienna:20250405T120000
DTSTAMP:20260421T172413
CREATED:20250403T181416Z
LAST-MODIFIED:20250403T181503Z
UID:1372-1743841800-1743854400@klima-stmarien.at
SUMMARY:Flurreinigungsaktion 2025
DESCRIPTION:FLURREINIGUNGSAKTION 2025\nam Samstag\, 5. April 2025\nTreffpunkte: 8.30 Uhr Feuerwehrzeughäuser\nder FF St. Marien und Weichstetten\noder\nTreffpunkt: 9.30 Uhr\nFreizeitanlage Nöstlbach\nLiebe Samareinerinnen und Samareiner!\nEin Vormittag für die Sauberkeit unserer Gemeinde. Schnappen Sie Ihre Kinder oder Freunde und helfen Sie mit! Ausgestattet mit Handschuhen und Müllsäcken ziehen kleine Gruppen durch den Ort und sammeln alles ein\, was in den Müll gehört. Zum Abschluss gibt es dann eine kleine Stärkung. \nDer Tag ist für Sie ungünstig? Auch an den Vortagen aufgesammelter Müll darf im Rahmen der Flurreinigungsaktion bei der Feuerwehr vorbeigebracht werden.\nWenn Sie schon vor Samstag unterwegs sein wollen\, bitten wir um Kontaktaufnahme mit Elisabeth Rogl (Tel. 0676/745 27 37). \nBilder schaffen Bewusstsein: Wir laden dazu ein uns Fotos vom Sammeln\, von befüllten Müllsäcken und unserer gesäuberten Natur zukommen zu lassen. \nAls Dankeschön lädt die Gemeinde St. Marien im Anschluss alle TeilnehmerInnen zu einer Jause in die Feuerwehrzeughäuser der FF St. Marien und FF Weichstetten und bei der Freizeitanlage Nöstlbach ein. \nGroßes Dankeschön gilt den Mitgliedern des Arbeitskreises Klima- und Bodenbündnis\, den Pfadfindern Nöstlbach und der FF St. Marien und FF Weichstetten für die Organisation. \nIhr\nBürgermeister\nWalter Lazelsberger \nFlurreinigung 2025 – Einladung Gemeindezeitung
URL:https://klima-stmarien.at/termin/flurreinigungsaktion-2025/
CATEGORIES:sonstiges
END:VEVENT
BEGIN:VEVENT
DTSTART;TZID=Europe/Vienna:20250407T190000
DTEND;TZID=Europe/Vienna:20250407T220000
DTSTAMP:20260421T172413
CREATED:20250403T180351Z
LAST-MODIFIED:20250929T184456Z
UID:1366-1744052400-1744063200@klima-stmarien.at
SUMMARY:Treffen des Arbeitskreises Klima- und Bodenbündnis (ABGESAGT)
DESCRIPTION:Dir ist Umwelt- und Klimaschutz wichtig? Du möchtest in deiner Gemeinde an Projekten und Maßnahmen mitarbeiten bzw./und dich im Arbeitskreis engagieren? Dann komm zum nächsten Arbeitskreis-Treffen! \nRückfragen an: \nAlexandra Ziegler\, ziegler.killinger@gmx.at oder 0650/6002288\nSylvia Bina-Waldl\, africa.251@outlook.at oder 0664/2040203\nMaria Schöller\, schoeller.maria@gmail.com oder 0650/7902727
URL:https://klima-stmarien.at/termin/treffen-des-arbeitskreises-klima-und-bodenbuendnis-2025-04-03/
LOCATION:Gasthaus Luger\, St. Marien 10\, St. Marien\, 4502
CATEGORIES:sonstiges
END:VEVENT
BEGIN:VEVENT
DTSTART;TZID=Europe/Vienna:20250414T190000
DTEND;TZID=Europe/Vienna:20250414T210000
DTSTAMP:20260421T172413
CREATED:20250403T180900Z
LAST-MODIFIED:20250403T180900Z
UID:1368-1744657200-1744664400@klima-stmarien.at
SUMMARY:Kräutertreff April
DESCRIPTION:“Der einjährige Beifuss”\n(Artemisia annua)\nein pflanzliches Wunderwerk\nReferentin Mag. Barbara Pühringer \n19:00 Uhr – Kräutertreff / Vortrag im Gasthaus Luger St. Marien \nInfo: Gemeinde St. Marien\nFr. Pfistermüller\, 07227 8155-11\nFr. Heidi Ruf\, 0699 814 235 52 \nFlyer Kräutertreff April 2025
URL:https://klima-stmarien.at/termin/kraeutertreff-2025-04/
LOCATION:Gasthaus Luger\, St. Marien 10\, St. Marien\, 4502
CATEGORIES:Kräutertreff
END:VEVENT
END:VCALENDAR