BEGIN:VCALENDAR
VERSION:2.0
PRODID:-//Klima- und Bodenbündnis St Marien - ECPv6.15.20//NONSGML v1.0//EN
CALSCALE:GREGORIAN
METHOD:PUBLISH
X-ORIGINAL-URL:https://klima-stmarien.at
X-WR-CALDESC:Veranstaltungen für Klima- und Bodenbündnis St Marien
REFRESH-INTERVAL;VALUE=DURATION:PT1H
X-Robots-Tag:noindex
X-PUBLISHED-TTL:PT1H
BEGIN:VTIMEZONE
TZID:Europe/Vienna
BEGIN:DAYLIGHT
TZOFFSETFROM:+0100
TZOFFSETTO:+0200
TZNAME:CEST
DTSTART:20240331T010000
END:DAYLIGHT
BEGIN:STANDARD
TZOFFSETFROM:+0200
TZOFFSETTO:+0100
TZNAME:CET
DTSTART:20241027T010000
END:STANDARD
BEGIN:DAYLIGHT
TZOFFSETFROM:+0100
TZOFFSETTO:+0200
TZNAME:CEST
DTSTART:20250330T010000
END:DAYLIGHT
BEGIN:STANDARD
TZOFFSETFROM:+0200
TZOFFSETTO:+0100
TZNAME:CET
DTSTART:20251026T010000
END:STANDARD
BEGIN:DAYLIGHT
TZOFFSETFROM:+0100
TZOFFSETTO:+0200
TZNAME:CEST
DTSTART:20260329T010000
END:DAYLIGHT
BEGIN:STANDARD
TZOFFSETFROM:+0200
TZOFFSETTO:+0100
TZNAME:CET
DTSTART:20261025T010000
END:STANDARD
END:VTIMEZONE
BEGIN:VEVENT
DTSTART;TZID=Europe/Vienna:20250117T190000
DTEND;TZID=Europe/Vienna:20250117T213000
DTSTAMP:20260421T222709
CREATED:20240930T192148Z
LAST-MODIFIED:20241228T163511Z
UID:1262-1737140400-1737149400@klima-stmarien.at
SUMMARY:Filmabend: Tagebuch einer Biene
DESCRIPTION:Wie wäre es\, wenn wir gemeinsam auf eine ganz besondere Reise gehen? Eine Reise in die faszinierende Welt einer kleinen\, aber wichtigen Mitspielerin unseres Ökosystems: der Honigbiene. \n  \nIn den vergangenen Monaten haben wir uns beim AK Klima- und Bodenbündnis dafür eingesetzt\, das Nahrungsangebot für Honig- und Wildbienen sowie deren entferntere Verwandte in unserer Gemeinde zu erhöhen. Nun lasst uns mal sehen\, wie so eine Landschaft aus Bienen-Perspektive aussieht! \nDer traditionelle Filmabend des AK Klima- und Bodenbündnis findet auch dieses Mal in Kooperation mit der Pfarre St. Marien statt: \nFreitag\, 17. Januar 2025\, ab 19 Uhr im Pfarrheim St. Marien \nLassen wir uns verzaubern von den erstaunlichen Einblicken in das Leben dieser fleißigen Insekten. Im Anschluss an den Film laden wir alle\, die wollen\, zum gemütlichen Beisammensein bei einem Honigbrot ein. \nDer Eintritt ist frei – über eine kleine Spende für die Raumnutzung freuen wir uns.
URL:https://klima-stmarien.at/termin/filmabend-2025-01/
LOCATION:Pfarrheim St. Marien\, St. Marien 6\, St. Marien\, 4502\, Austria
CATEGORIES:sonstiges
ATTACH;FMTTYPE=image/jpeg:https://klima-stmarien.at/wp-content/uploads/2024/09/Filmabend_2025-tagebuch-einer-biene.jpg
END:VEVENT
END:VCALENDAR