BEGIN:VCALENDAR
VERSION:2.0
PRODID:-//Klima- und Bodenbündnis St Marien - ECPv6.15.20//NONSGML v1.0//EN
CALSCALE:GREGORIAN
METHOD:PUBLISH
X-WR-CALNAME:Klima- und Bodenbündnis St Marien
X-ORIGINAL-URL:https://klima-stmarien.at
X-WR-CALDESC:Veranstaltungen für Klima- und Bodenbündnis St Marien
REFRESH-INTERVAL;VALUE=DURATION:PT1H
X-Robots-Tag:noindex
X-PUBLISHED-TTL:PT1H
BEGIN:VTIMEZONE
TZID:Europe/Vienna
BEGIN:DAYLIGHT
TZOFFSETFROM:+0100
TZOFFSETTO:+0200
TZNAME:CEST
DTSTART:20230326T010000
END:DAYLIGHT
BEGIN:STANDARD
TZOFFSETFROM:+0200
TZOFFSETTO:+0100
TZNAME:CET
DTSTART:20231029T010000
END:STANDARD
BEGIN:DAYLIGHT
TZOFFSETFROM:+0100
TZOFFSETTO:+0200
TZNAME:CEST
DTSTART:20240331T010000
END:DAYLIGHT
BEGIN:STANDARD
TZOFFSETFROM:+0200
TZOFFSETTO:+0100
TZNAME:CET
DTSTART:20241027T010000
END:STANDARD
BEGIN:DAYLIGHT
TZOFFSETFROM:+0100
TZOFFSETTO:+0200
TZNAME:CEST
DTSTART:20250330T010000
END:DAYLIGHT
BEGIN:STANDARD
TZOFFSETFROM:+0200
TZOFFSETTO:+0100
TZNAME:CET
DTSTART:20251026T010000
END:STANDARD
END:VTIMEZONE
BEGIN:VEVENT
DTSTART;TZID=Europe/Vienna:20241007T190000
DTEND;TZID=Europe/Vienna:20241007T210000
DTSTAMP:20260422T030604
CREATED:20240930T191734Z
LAST-MODIFIED:20240930T191734Z
UID:1256-1728327600-1728334800@klima-stmarien.at
SUMMARY:Treffen des Arbeitskreises Klima- und Bodenbündnis
DESCRIPTION:Dir ist Umwelt- und Klimaschutz wichtig? Du möchtest in deiner Gemeinde an Projekten und Maßnahmen mitarbeiten bzw./und dich im Arbeitskreis engagieren? Dann komm zum nächsten Arbeitskreis-Treffen! \nRückfragen an: \nAlexandra Ziegler\, ziegler.killinger@gmx.at oder 0650/6002288\nSylvia Bina-Waldl\, africa.251@outlook.at oder 0664/2040203\nMaria Schöller\, schoeller.maria@gmail.com oder 0650/7902727
URL:https://klima-stmarien.at/termin/treffen-des-arbeitskreises-klima-und-bodenbuendnis-3/
LOCATION:KIMST\, St. Marien 35\, St. Marien\, 4502\, Austria
CATEGORIES:sonstiges
END:VEVENT
BEGIN:VEVENT
DTSTART;TZID=Europe/Vienna:20241014T163000
DTEND;TZID=Europe/Vienna:20241014T210000
DTSTAMP:20260422T030604
CREATED:20240930T193117Z
LAST-MODIFIED:20240930T193617Z
UID:1265-1728923400-1728939600@klima-stmarien.at
SUMMARY:Kräutertreff
DESCRIPTION:“Kräutersalze & Verreibungen für Küche\, Naturheilkunde & Körperpflege”\nReferentin Mag. Barbara Pühringer\nJahresthema “Unsere Bäume”\nBaum des Monats: Rosskastanie \n16:30 Uhr – Kräuterspaziergang / Treffpunkt Gemeindeparkplatz\n19:00 Uhr – Kräutertreff / Gasthaus Luger St. Marien \nInfo: Gemeinde St. Marien\nFr. Pfistermüller\, 07227 8155-11\nFr. Heidi Ruf\, 0699 814 235 52 \n–> Kräutertreff Flyer Oktober 2024
URL:https://klima-stmarien.at/termin/kraeutertreff-2024-10/
LOCATION:Gasthaus Luger\, St. Marien 10\, St. Marien\, 4502
CATEGORIES:Kräutertreff,Kräuterwanderung
ATTACH;FMTTYPE=image/jpeg:https://klima-stmarien.at/wp-content/uploads/2024/09/Kraeutersalz.jpg
END:VEVENT
BEGIN:VEVENT
DTSTART;TZID=Europe/Vienna:20241025T190000
DTEND;TZID=Europe/Vienna:20241025T210000
DTSTAMP:20260422T030604
CREATED:20240927T131430Z
LAST-MODIFIED:20241006T181428Z
UID:1252-1729882800-1729890000@klima-stmarien.at
SUMMARY:Infoabend: Energiegemeinschaften – regionale Stromkreisläufe
DESCRIPTION:Energiegemeinschaften – regionale Stromkreisläufe“ mit Vorstellung der EG-Vereins „Energiewende Ansfelden“\n \n\nWas sind Energiegemeinschaften?\nWie können sie von Energiegemeinschaften profitieren?\nWer kann dabei mitmachen?\nWelche Möglichkeiten bieten sich nun für die Gemeindebürger:innen von St. Marien?\n\nDer Obmann der Energiegemeinschaft „Energiewende Ansfelden“ – Christian Werenka – stellt uns sein Wissen zur Verfügung. \n \nhttps://www.ew-ansfelden.at/
URL:https://klima-stmarien.at/termin/infoabend-energiegemeinschaften-regionale-stromkreislaeufe/
LOCATION:Gasthaus Luger\, St. Marien 10\, St. Marien\, 4502
CATEGORIES:Klima-Stammtisch,Vortrag
ATTACH;FMTTYPE=image/jpeg:https://klima-stmarien.at/wp-content/uploads/2024/09/Infoabend-vernetzte-Haeuser.jpg
END:VEVENT
END:VCALENDAR