BEGIN:VCALENDAR
VERSION:2.0
PRODID:-//Klima- und Bodenbündnis St Marien - ECPv6.15.20//NONSGML v1.0//EN
CALSCALE:GREGORIAN
METHOD:PUBLISH
X-ORIGINAL-URL:https://klima-stmarien.at
X-WR-CALDESC:Veranstaltungen für Klima- und Bodenbündnis St Marien
REFRESH-INTERVAL;VALUE=DURATION:PT1H
X-Robots-Tag:noindex
X-PUBLISHED-TTL:PT1H
BEGIN:VTIMEZONE
TZID:Europe/Vienna
BEGIN:DAYLIGHT
TZOFFSETFROM:+0100
TZOFFSETTO:+0200
TZNAME:CEST
DTSTART:20220327T010000
END:DAYLIGHT
BEGIN:STANDARD
TZOFFSETFROM:+0200
TZOFFSETTO:+0100
TZNAME:CET
DTSTART:20221030T010000
END:STANDARD
BEGIN:DAYLIGHT
TZOFFSETFROM:+0100
TZOFFSETTO:+0200
TZNAME:CEST
DTSTART:20230326T010000
END:DAYLIGHT
BEGIN:STANDARD
TZOFFSETFROM:+0200
TZOFFSETTO:+0100
TZNAME:CET
DTSTART:20231029T010000
END:STANDARD
BEGIN:DAYLIGHT
TZOFFSETFROM:+0100
TZOFFSETTO:+0200
TZNAME:CEST
DTSTART:20240331T010000
END:DAYLIGHT
BEGIN:STANDARD
TZOFFSETFROM:+0200
TZOFFSETTO:+0100
TZNAME:CET
DTSTART:20241027T010000
END:STANDARD
END:VTIMEZONE
BEGIN:VEVENT
DTSTART;TZID=Europe/Vienna:20230911T170000
DTEND;TZID=Europe/Vienna:20230911T210000
DTSTAMP:20260422T235010
CREATED:20230907T163700Z
LAST-MODIFIED:20230907T163803Z
UID:1202-1694451600-1694466000@klima-stmarien.at
SUMMARY:Kräuterwanderung und Kräutertreff: Wurzeln\, Beeren\, Samen\, Harze\, Rinden
DESCRIPTION:17:00 Uhr Kräuterwanderung – Treffpunkt Seminarhof Kletzmayr\, 4502 St. Marien\, Niederschöfring 22\n19:00 Uhr : Vortrag: „Wurzeln\, Beeren\, Samen\, Harze\, Rinden“\nSammelzeit und Verarbeitung für Hausapotheke und Küche Kräutertreff\n \nKräutertreff Jahresthema 2023: Kräuter & Umwelt \nInfo: Gemeinde St. Marien\,\nFr. Pfistermüller Anna\, 07227-8155-11\nFr. Heidi Ruf\, Handy 0699/814 235 52 \nEinladung als PDF: September 2023
URL:https://klima-stmarien.at/termin/kraeuterwanderung-und-kraeutertreff-2023-09/
LOCATION:Seminarhof Kletzmayr\, Niederschöfring 22\, St. Marien\, 4502
CATEGORIES:Kräutertreff,Kräuterwanderung
END:VEVENT
END:VCALENDAR