BEGIN:VCALENDAR
VERSION:2.0
PRODID:-//Klima- und Bodenbündnis St Marien - ECPv6.15.20//NONSGML v1.0//EN
CALSCALE:GREGORIAN
METHOD:PUBLISH
X-ORIGINAL-URL:https://klima-stmarien.at
X-WR-CALDESC:Veranstaltungen für Klima- und Bodenbündnis St Marien
REFRESH-INTERVAL;VALUE=DURATION:PT1H
X-Robots-Tag:noindex
X-PUBLISHED-TTL:PT1H
BEGIN:VTIMEZONE
TZID:Europe/Vienna
BEGIN:DAYLIGHT
TZOFFSETFROM:+0100
TZOFFSETTO:+0200
TZNAME:CEST
DTSTART:20220327T010000
END:DAYLIGHT
BEGIN:STANDARD
TZOFFSETFROM:+0200
TZOFFSETTO:+0100
TZNAME:CET
DTSTART:20221030T010000
END:STANDARD
BEGIN:DAYLIGHT
TZOFFSETFROM:+0100
TZOFFSETTO:+0200
TZNAME:CEST
DTSTART:20230326T010000
END:DAYLIGHT
BEGIN:STANDARD
TZOFFSETFROM:+0200
TZOFFSETTO:+0100
TZNAME:CET
DTSTART:20231029T010000
END:STANDARD
BEGIN:DAYLIGHT
TZOFFSETFROM:+0100
TZOFFSETTO:+0200
TZNAME:CEST
DTSTART:20240331T010000
END:DAYLIGHT
BEGIN:STANDARD
TZOFFSETFROM:+0200
TZOFFSETTO:+0100
TZNAME:CET
DTSTART:20241027T010000
END:STANDARD
END:VTIMEZONE
BEGIN:VEVENT
DTSTART;TZID=Europe/Vienna:20230411T163000
DTEND;TZID=Europe/Vienna:20230411T210000
DTSTAMP:20260423T072522
CREATED:20230405T150733Z
LAST-MODIFIED:20230405T150801Z
UID:1070-1681230600-1681246800@klima-stmarien.at
SUMMARY:Kräuterwanderung und Kräutertreff: Was blüht in St. Marien?
DESCRIPTION:16:30 Uhr Kräuterwanderung – Treffpunkt Parkplatz Gemeindeamt St. Marien\n19:00 Uhr\, GH Luger \n \n \nWir stellen unser neues Projekt vor! \nKräutertreff Jahresthema 2023: Kräuter & Umwelt \nInfo: Gemeinde St. Marien\,\nFr. Pfistermüller Anna\, 07227-8155-11\nFr. Heidi Ruf\, Handy 0699/814 235 52 \nEinladung als PDF: April 2023\n \nHintergrundbeschreibung zum Projekt: Die Flora von St. Marien
URL:https://klima-stmarien.at/termin/kraeuterwanderung-und-kraeutertreff-was-blueht-in-st-marien/
LOCATION:Gasthaus Luger\, St. Marien 10\, St. Marien\, 4502
CATEGORIES:Kräutertreff,Kräuterwanderung
ATTACH;FMTTYPE=image/jpeg:https://klima-stmarien.at/wp-content/uploads/2023/04/Wald-Gelbstern.jpg
END:VEVENT
BEGIN:VEVENT
DTSTART;TZID=Europe/Vienna:20230412T190000
DTEND;TZID=Europe/Vienna:20230412T210000
DTSTAMP:20260423T072522
CREATED:20230123T174836Z
LAST-MODIFIED:20230225T092611Z
UID:1000-1681326000-1681333200@klima-stmarien.at
SUMMARY:Arbeitskreis-Treffen Klima- und Bodenbündnis
DESCRIPTION:Dir ist Umwelt- und Klimaschutz wichtig? Du möchtest in deiner Gemeinde an Projekten und Maßnahmen mitarbeiten bzw./und dich im Arbeitskreis engagieren? Dann komm zum nächsten Arbeitskreis-Treffen!\nBitte um vorherige Anmeldung bei AK-Leiter Josef Winter unter Tel. 0664 6632076 bzw. info@klima-stmarien.at.
URL:https://klima-stmarien.at/termin/arbeitskreis-sitzung-klima-und-bodenbuendnis-8/
LOCATION:KIMST\, St. Marien 35\, St. Marien\, 4502\, Austria
CATEGORIES:sonstiges
ATTACH;FMTTYPE=image/png:https://klima-stmarien.at/wp-content/uploads/2021/06/Erde_getragen.png
END:VEVENT
BEGIN:VEVENT
DTSTART;TZID=Europe/Vienna:20230422T140000
DTEND;TZID=Europe/Vienna:20230422T170000
DTSTAMP:20260423T072522
CREATED:20230224T065402Z
LAST-MODIFIED:20230405T151103Z
UID:1021-1682172000-1682182800@klima-stmarien.at
SUMMARY:Kleidertausch
DESCRIPTION:Regeln für den Kleidertausch: \n\nBring max. 5 Bekleidungsstücke mit!\nAusschließlich Kleidung in gutem und saubern Zustand!\nDie gleiche Anzahl an Kleidung die sie mitbringen\, können Sie auch mit nach Hause nehmen!\n\nAnsprechperson: Marlene Hofer
URL:https://klima-stmarien.at/termin/kleidertausch-2023-04/
ATTACH;FMTTYPE=image/jpeg:https://klima-stmarien.at/wp-content/uploads/2023/02/Kleidertausch-Plakat_2023-04.jpg
END:VEVENT
BEGIN:VEVENT
DTSTART;TZID=Europe/Vienna:20230425T190000
DTEND;TZID=Europe/Vienna:20230425T210000
DTSTAMP:20260423T072522
CREATED:20230224T065529Z
LAST-MODIFIED:20230405T192633Z
UID:1023-1682449200-1682456400@klima-stmarien.at
SUMMARY:Infoabend eCAR-Sharing
DESCRIPTION:ab 18.00 Uhr eCar-Sharing Auto „Zum Angreifen“ am Gemeindeparkplatz\num 19.00 Uhr Vortrag im GH Luger: \nWie funktioniert eCar-Sharing\, für wen ist es interessant\, was kostet es? \neCar-Sharing kann ein positiver Beitrag zu Nachhaltigkeit und persönlich eine attraktive Alternative zum Zweitauto sein. Im Rahmen der Veranstaltung wird auch die Möglichkeit zum praktischen Ausprobieren eines Sharing-Fahrzeuges bestehen.\nWir freuen uns auf Ihr Kommen! \nBei Fragen im Vorfeld bitte um ein EMail an info@klima-stmarien.at bzw. 0664/6632076
URL:https://klima-stmarien.at/termin/infoabend-ecar-sharing/
LOCATION:Gasthaus Luger\, St. Marien 10\, St. Marien\, 4502
ATTACH;FMTTYPE=image/jpeg:https://klima-stmarien.at/wp-content/uploads/2023/02/Infoabend_2023-04-25.jpg
END:VEVENT
END:VCALENDAR