BEGIN:VCALENDAR
VERSION:2.0
PRODID:-//Klima- und Bodenbündnis St Marien - ECPv6.15.20//NONSGML v1.0//EN
CALSCALE:GREGORIAN
METHOD:PUBLISH
X-ORIGINAL-URL:https://klima-stmarien.at
X-WR-CALDESC:Veranstaltungen für Klima- und Bodenbündnis St Marien
REFRESH-INTERVAL;VALUE=DURATION:PT1H
X-Robots-Tag:noindex
X-PUBLISHED-TTL:PT1H
BEGIN:VTIMEZONE
TZID:Europe/Vienna
BEGIN:DAYLIGHT
TZOFFSETFROM:+0100
TZOFFSETTO:+0200
TZNAME:CEST
DTSTART:20210328T010000
END:DAYLIGHT
BEGIN:STANDARD
TZOFFSETFROM:+0200
TZOFFSETTO:+0100
TZNAME:CET
DTSTART:20211031T010000
END:STANDARD
BEGIN:DAYLIGHT
TZOFFSETFROM:+0100
TZOFFSETTO:+0200
TZNAME:CEST
DTSTART:20220327T010000
END:DAYLIGHT
BEGIN:STANDARD
TZOFFSETFROM:+0200
TZOFFSETTO:+0100
TZNAME:CET
DTSTART:20221030T010000
END:STANDARD
BEGIN:DAYLIGHT
TZOFFSETFROM:+0100
TZOFFSETTO:+0200
TZNAME:CEST
DTSTART:20230326T010000
END:DAYLIGHT
BEGIN:STANDARD
TZOFFSETFROM:+0200
TZOFFSETTO:+0100
TZNAME:CET
DTSTART:20231029T010000
END:STANDARD
END:VTIMEZONE
BEGIN:VEVENT
DTSTART;TZID=Europe/Vienna:20220706T190000
DTEND;TZID=Europe/Vienna:20220706T210000
DTSTAMP:20260423T210624
CREATED:20220409T122004Z
LAST-MODIFIED:20220409T122205Z
UID:683-1657134000-1657141200@klima-stmarien.at
SUMMARY:Arbeitskreis-Sitzung Klima- und Bodenbündnis
DESCRIPTION:Es sind alle mit Interesse an unseren Themen willkommen! Bitte um vorherige Anmeldung bei AK-Leiter Josef Winter unter Tel. 0664 6632076 bzw. info@klima-stmarien.at.
URL:https://klima-stmarien.at/termin/arbeitskreis-sitzung-klima-und-bodenbuendnis-5/
LOCATION:KIMST\, St. Marien 35\, St. Marien\, 4502\, Austria
CATEGORIES:sonstiges
ATTACH;FMTTYPE=image/jpeg:https://klima-stmarien.at/wp-content/uploads/2022/04/gruene-Guehbirne.jpg
END:VEVENT
BEGIN:VEVENT
DTSTART;TZID=Europe/Vienna:20220711T080000
DTEND;TZID=Europe/Vienna:20220711T170000
DTSTAMP:20260423T210624
CREATED:20220629T160301Z
LAST-MODIFIED:20220629T160345Z
UID:783-1657526400-1657558800@klima-stmarien.at
SUMMARY:Kräuterwanderung + Kräutertreff: „Gut durch den Sommer mit Wild- und Gartenkräuter“
DESCRIPTION:Kräuterwanderung um 17.00 Uhr\, Treffpunkt Parkplatz Gemeinde St. Marien\nanschließend  \nKräutertreff um 19.00 Uhr\, GH Luger:\n„Gut durch den Sommer mit Wild- und Gartenkräuter“\nInfo: Gemeinde St. Marien\,\nFr. Pfistermüller Anna\, 07227-8155-11\nFr. Heidi Ruf\, Handy 0699/814 235 52 \nEinladung als PDF: Juli A4
URL:https://klima-stmarien.at/termin/kraeuterwanderung-kraeutertreff-gut-durch-den-sommer-mit-wild-und-gartenkraeuter/
LOCATION:Gasthaus Luger\, St. Marien 10\, St. Marien\, 4502
CATEGORIES:Kräutertreff,Kräuterwanderung
ATTACH;FMTTYPE=image/jpeg:https://klima-stmarien.at/wp-content/uploads/2022/06/Kraeutertreff_2022_Juli.jpg
END:VEVENT
END:VCALENDAR