BEGIN:VCALENDAR
VERSION:2.0
PRODID:-//Klima- und Bodenbündnis St Marien - ECPv6.15.20//NONSGML v1.0//EN
CALSCALE:GREGORIAN
METHOD:PUBLISH
X-WR-CALNAME:Klima- und Bodenbündnis St Marien
X-ORIGINAL-URL:https://klima-stmarien.at
X-WR-CALDESC:Veranstaltungen für Klima- und Bodenbündnis St Marien
REFRESH-INTERVAL;VALUE=DURATION:PT1H
X-Robots-Tag:noindex
X-PUBLISHED-TTL:PT1H
BEGIN:VTIMEZONE
TZID:Europe/Vienna
BEGIN:DAYLIGHT
TZOFFSETFROM:+0100
TZOFFSETTO:+0200
TZNAME:CEST
DTSTART:20220327T010000
END:DAYLIGHT
BEGIN:STANDARD
TZOFFSETFROM:+0200
TZOFFSETTO:+0100
TZNAME:CET
DTSTART:20221030T010000
END:STANDARD
BEGIN:DAYLIGHT
TZOFFSETFROM:+0100
TZOFFSETTO:+0200
TZNAME:CEST
DTSTART:20230326T010000
END:DAYLIGHT
BEGIN:STANDARD
TZOFFSETFROM:+0200
TZOFFSETTO:+0100
TZNAME:CET
DTSTART:20231029T010000
END:STANDARD
BEGIN:DAYLIGHT
TZOFFSETFROM:+0100
TZOFFSETTO:+0200
TZNAME:CEST
DTSTART:20240331T010000
END:DAYLIGHT
BEGIN:STANDARD
TZOFFSETFROM:+0200
TZOFFSETTO:+0100
TZNAME:CET
DTSTART:20241027T010000
END:STANDARD
BEGIN:DAYLIGHT
TZOFFSETFROM:+0100
TZOFFSETTO:+0200
TZNAME:CEST
DTSTART:20250330T010000
END:DAYLIGHT
BEGIN:STANDARD
TZOFFSETFROM:+0200
TZOFFSETTO:+0100
TZNAME:CET
DTSTART:20251026T010000
END:STANDARD
BEGIN:DAYLIGHT
TZOFFSETFROM:+0100
TZOFFSETTO:+0200
TZNAME:CEST
DTSTART:20260329T010000
END:DAYLIGHT
BEGIN:STANDARD
TZOFFSETFROM:+0200
TZOFFSETTO:+0100
TZNAME:CET
DTSTART:20261025T010000
END:STANDARD
BEGIN:DAYLIGHT
TZOFFSETFROM:+0100
TZOFFSETTO:+0200
TZNAME:CEST
DTSTART:20270328T010000
END:DAYLIGHT
BEGIN:STANDARD
TZOFFSETFROM:+0200
TZOFFSETTO:+0100
TZNAME:CET
DTSTART:20271031T010000
END:STANDARD
END:VTIMEZONE
BEGIN:VEVENT
DTSTART;TZID=Europe/Vienna:20260411T083000
DTEND;TZID=Europe/Vienna:20260411T120000
DTSTAMP:20260421T005748
CREATED:20260110T133509Z
LAST-MODIFIED:20260110T133535Z
UID:1438-1775896200-1775908800@klima-stmarien.at
SUMMARY:Flurreinigungsaktion 2026
DESCRIPTION:FLURREINIGUNGSAKTION 2026\nam Samstag\, 11. April\nDetails folgen ehestmöglich!
URL:https://klima-stmarien.at/termin/flurreinigungsaktion-2026/
CATEGORIES:sonstiges
END:VEVENT
BEGIN:VEVENT
DTSTART;TZID=Europe/Vienna:20260323T190000
DTEND;TZID=Europe/Vienna:20260323T210000
DTSTAMP:20260421T005748
CREATED:20260308T060437Z
LAST-MODIFIED:20260308T082006Z
UID:1472-1774292400-1774299600@klima-stmarien.at
SUMMARY:Treffen des Arbeitskreises Klima- und Bodenbündnis
DESCRIPTION:„Es hängt nicht alles von dir ab\, aber es kommt auf dich an.“\nDu möchtest dich bei uns im Arbeitskreis mit engagieren? Deine Tatkraft und Ideen sind herzlich willkommen! Dann komm zum nächsten Arbeitskreis-Treffen am 23. März um 19 Uhr ins KIMST! \nRückfragen an: \nAlexandra Ziegler\, ziegler.killinger@gmx.at oder 0650/6002288\nSylvia Bina-Waldl\, africa.251@outlook.at oder 0664/2040203\nMaria Schöller\, schoeller.maria@gmail.com oder 0650/7902727
URL:https://klima-stmarien.at/termin/treffen-des-arbeitskreises-klima-und-bodenbuendnis-2026-03-23/
LOCATION:KIMST\, St. Marien 35\, St. Marien\, 4502\, Austria
CATEGORIES:sonstiges
END:VEVENT
BEGIN:VEVENT
DTSTART;TZID=Europe/Vienna:20260309T190000
DTEND;TZID=Europe/Vienna:20260309T210000
DTSTAMP:20260421T005748
CREATED:20260110T133308Z
LAST-MODIFIED:20260308T061059Z
UID:1435-1773082800-1773090000@klima-stmarien.at
SUMMARY:Kräutertreff März
DESCRIPTION:“Schottergarten”\nSchottergarten adé: Erfahre\, wie dein Garten bunt und pflegeleicht erblüht! \nReferentin: DIin Renate Leitinger (Bodenbündnis OÖ) \n19:00 Uhr – Kräutertreff im GH Luger \nInfo: Gemeinde St. Marien\nBürgerservice\, 07227 8155-10\nFr. Heidi Ruf\, 0699 814 235 52 \nFlyer Kräutertreff März 2026
URL:https://klima-stmarien.at/termin/kraeutertreff-2026-03/
LOCATION:Gasthaus Luger\, St. Marien 10\, St. Marien\, 4502
CATEGORIES:Kräutertreff
END:VEVENT
BEGIN:VEVENT
DTSTART;TZID=Europe/Vienna:20260209T190000
DTEND;TZID=Europe/Vienna:20260209T210000
DTSTAMP:20260421T005748
CREATED:20260109T110021Z
LAST-MODIFIED:20260125T182743Z
UID:1432-1770663600-1770670800@klima-stmarien.at
SUMMARY:Kräutertreff Februar
DESCRIPTION:“Mein klimafitter Garten” – wie Boden und Klima zusammenhängen.\nWelchen Beitrag kann ich als Gärtner:in zum Boden- und Klimaschutz leisten. Wertvolle Tipps ermutigen zum Tun. \nReferentin: DIin Renate Leitinger (Bodenbündnis OÖ) \n19:00 Uhr – Kräutertreff im GH Luger \nInfo: Gemeinde St. Marien\nBürgerservice\, 07227 8155-10\nFr. Heidi Ruf\, 0699 814 235 52 \n–> Flyer Kräutertreff Februar 2026 \n 
URL:https://klima-stmarien.at/termin/kraeutertreff-2026-02/
LOCATION:Gasthaus Luger\, St. Marien 10\, St. Marien\, 4502
CATEGORIES:Kräutertreff
END:VEVENT
BEGIN:VEVENT
DTSTART;TZID=Europe/Vienna:20260202T190000
DTEND;TZID=Europe/Vienna:20260202T210000
DTSTAMP:20260421T005748
CREATED:20251124T180233Z
LAST-MODIFIED:20251124T181201Z
UID:1406-1770058800-1770066000@klima-stmarien.at
SUMMARY:Treffen des Arbeitskreises Klima- und Bodenbündnis
DESCRIPTION:Dir ist Umwelt- und Klimaschutz wichtig? Du möchtest in deiner Gemeinde an Projekten und Maßnahmen mitarbeiten bzw./und dich im Arbeitskreis engagieren? Dann komm zum nächsten Arbeitskreis-Treffen am 2. Februar um 19 Uhr ins KIMST! \nRückfragen an: \nAlexandra Ziegler\, ziegler.killinger@gmx.at oder 0650/6002288\nSylvia Bina-Waldl\, africa.251@outlook.at oder 0664/2040203\nMaria Schöller\, schoeller.maria@gmail.com oder 0650/7902727
URL:https://klima-stmarien.at/termin/treffen-des-arbeitskreises-klima-und-bodenbuendnis-2026-02-02/
LOCATION:KIMST\, St. Marien 35\, St. Marien\, 4502\, Austria
CATEGORIES:sonstiges
END:VEVENT
BEGIN:VEVENT
DTSTART;TZID=Europe/Vienna:20260202T180000
DTEND;TZID=Europe/Vienna:20260202T190000
DTSTAMP:20260421T005748
CREATED:20260125T183045Z
LAST-MODIFIED:20260201T152211Z
UID:1458-1770055200-1770058800@klima-stmarien.at
SUMMARY:Saatgut-Tausch
DESCRIPTION:Eine Stunde vor Beginn des AK-Treffens\, von 18-19 Uhr\, ebenfalls im KIMST gibt es einen kleinen Saatgut-Tausch zwischen Hobby-GärtnerInnen! Komm gern vorbei\, mit oder ohne eigenem Saatgut! \nEine Liste von Tomaten-\, Paprika-\, Chilli- und Kürbissorten kann gerne zugesendet werden. Schreibe dazu eine E-Mail an info@klima-stmarien.at bzw. schoeller.maria@gmail.com oder melde ich bei Maria unter 0650/7902727. \nUpdate 1. Februar:\nfolgende selbstvermehrte Samen kannst du tauschen: \nTomaten:\n„Idyll“ Cocktail-Kirschtomate\, rot\n„Primabella“\, rote\, feste Cocktailtomate (Freiland geeignet)\ngelbe Sissi (kleine ovale)\ngelbe Dattelwein\, ovale kleine Früchte\nschwarze-rote Cocktail-Tomate\n„Chocolate Cherry“ Cocktail-Tomate\n„de Barao“ (Freiland geeignet)\nSanta Cruz Carder Gigante (Freiland geeignet)\n„Tigarella“\, rot mit orangen Streifen\nWeiße Tomate „Schneeflocke“\nschwarzer Prinz\ngelb-orange Tomate\nSan Marzano\, Flaschentomate\nrote Zahnrad-Tomate\n„Tigarella“\, rot mit orangen Streifen\nZebra-Tomate\n„Rote Zara“ (Freiland geeignet)\nsibirische Tomate\ndunkelrote Fleischtomate\nrussische Herztomate\nOchsenherz\, große Fleisch-T (Nachbau)\n„Canario“\, große Fleischtomate\nAnnanas-Tomate (groß)\nRumänische Tomate\nReisetomate\n„Quick Pick“ (Arche Noah)\ngelbe Venusnippel-Tomate\n„Super Sweet 100“\, Cherry-Rispentomate\ngelbe Cocktail-Rispen-Tomate\n„goldene Königin“\, gelb (Orig.) \nPaprika:\nroter\, langer stumpfer Paprika\nlanger roter Paprika\ngroßer kantiger roter Paprika\ngr. roter runder Paprika\noranger Snack-Paprika\noranger Snack-Paprika\nroter Spitzpaprika\nroter Spitzpaprika\noranger runder Paprika\noranger langer Paprika\nmilder Pfefferoni „Spiral“ \nChilli:\nChilli-Paprika „Jalapeno“\, Schärfe 1\nrote lange Chilli\nrote Glockerl\nChilli-Paprika\, Schärfe 5\ngelbe Chilli\, länglich\norange mittellange Chilli\nStreifen-Pfefferonie (scharf)
URL:https://klima-stmarien.at/termin/saatgut-tausch/
CATEGORIES:sonstiges
END:VEVENT
BEGIN:VEVENT
DTSTART;TZID=Europe/Vienna:20260116T190000
DTEND;TZID=Europe/Vienna:20260116T210000
DTSTAMP:20260421T005748
CREATED:20251124T180404Z
LAST-MODIFIED:20260109T082833Z
UID:1408-1768590000-1768597200@klima-stmarien.at
SUMMARY:Filmabend: Was wäre\, wenn…? Ein Film über Ökosystem-Regeneration
DESCRIPTION:Es ist wieder Zeit für den \n \nFILMABEND \nFr\, 16.1. ab 19 Uhr im Pfarrheim St. Marien \nvom AK Klima- und Bodenbündnis und der Pfarre St. Marien! \nDieses Jahr wollen wir unsere Handlungsfähigkeit als Menschen in und mit der Natur erkunden – und gemeinsam bestaunen\, was durch kleine gezielte Interventionen\, viel Vertrauen und ein bisschen Zeit möglich wird. Wie inmitten von ökologisch verarmter Kulturlandschaft wieder Paradiese der Lebensvielfalt entstehen können. Kommt vorbei und macht euch bereit zum Staunen! \nKein Eintritt; kleine Spende für das Pfarrheim erbeten. \n \n–> Flyer Filmabend 2026
URL:https://klima-stmarien.at/termin/filmabend-2026-01-16/
LOCATION:Pfarrheim St. Marien\, St. Marien 6\, St. Marien\, 4502\, Austria
CATEGORIES:sonstiges
END:VEVENT
BEGIN:VEVENT
DTSTART;TZID=Europe/Vienna:20260112T190000
DTEND;TZID=Europe/Vienna:20260112T210000
DTSTAMP:20260421T005748
CREATED:20251230T190257Z
LAST-MODIFIED:20260110T120826Z
UID:1425-1768244400-1768251600@klima-stmarien.at
SUMMARY:Kräutertreff Jänner
DESCRIPTION:“Schüßler Salze” – Die Prise Salz der Traditionellen Europäischen Medizin\n19:00 Uhr – Kräutertreff im GH Luger \nInfo: Gemeinde St. Marien\nBürgerservice\, 07227 8155-10\nFr. Heidi Ruf\, 0699 814 235 52 \n–> Flyer Jänner 2026
URL:https://klima-stmarien.at/termin/kraeutertreff-2026-01/
LOCATION:Gasthaus Luger\, St. Marien 10\, St. Marien\, 4502
CATEGORIES:Kräutertreff
END:VEVENT
BEGIN:VEVENT
DTSTART;TZID=Europe/Vienna:20251110T190000
DTEND;TZID=Europe/Vienna:20251110T210000
DTSTAMP:20260421T005748
CREATED:20251102T174101Z
LAST-MODIFIED:20251102T174101Z
UID:1402-1762801200-1762808400@klima-stmarien.at
SUMMARY:Kräutertreff November
DESCRIPTION:“Gut durch den Winter”\nmit Räuchern\, Tee & Gewürzen \n19:00 Uhr – Kräutertreff im GH Luger \nInfo: Gemeinde St. Marien\nFr. Pfistermüller\, 07227 8155-11\nFr. Heidi Ruf\, 0699 814 235 52 \nFlyer Kräutertreff November
URL:https://klima-stmarien.at/termin/kraeutertreff-2025-11/
LOCATION:Gasthaus Luger\, St. Marien 10\, St. Marien\, 4502
CATEGORIES:Kräutertreff
END:VEVENT
BEGIN:VEVENT
DTSTART;TZID=Europe/Vienna:20251022T190000
DTEND;TZID=Europe/Vienna:20251022T210000
DTSTAMP:20260421T005748
CREATED:20250929T183510Z
LAST-MODIFIED:20250929T184521Z
UID:1389-1761159600-1761166800@klima-stmarien.at
SUMMARY:Treffen des Arbeitskreises Klima- und Bodenbündnis
DESCRIPTION:Dir ist Umwelt- und Klimaschutz wichtig? Du möchtest in deiner Gemeinde an Projekten und Maßnahmen mitarbeiten bzw./und dich im Arbeitskreis engagieren? Dann komm zum nächsten Arbeitskreis-Treffen am 22. Oktober um 19 Uhr ins KIMST! \nRückfragen an: \nAlexandra Ziegler\, ziegler.killinger@gmx.at oder 0650/6002288\nSylvia Bina-Waldl\, africa.251@outlook.at oder 0664/2040203\nMaria Schöller\, schoeller.maria@gmail.com oder 0650/7902727
URL:https://klima-stmarien.at/termin/treffen-des-arbeitskreises-klima-und-bodenbuendnis-2025-10-22/
LOCATION:KIMST\, St. Marien 35\, St. Marien\, 4502\, Austria
CATEGORIES:sonstiges
END:VEVENT
BEGIN:VEVENT
DTSTART;TZID=Europe/Vienna:20251013T170000
DTEND;TZID=Europe/Vienna:20251013T210000
DTSTAMP:20260421T005748
CREATED:20250929T183259Z
LAST-MODIFIED:20250929T184357Z
UID:1386-1760374800-1760389200@klima-stmarien.at
SUMMARY:Kräutertreff Oktober
DESCRIPTION:“WURZELN – für die Gesundheit und Vitalität”\nKräuterspaziergang & Wissen \n17:00 Uhr – Kräuterspaziergang\, Treffpunkt Gemeinde Parkplatz St. Marien \n19:00 Uhr – Kräutertreff im GH Luger \nInfo: Gemeinde St. Marien\nFr. Pfistermüller\, 07227 8155-11\nFr. Heidi Ruf\, 0699 814 235 52 \nFlyer Kräutertreff Oktober2025
URL:https://klima-stmarien.at/termin/kraeutertreff-2025-10/
LOCATION:Gasthaus Luger\, St. Marien 10\, St. Marien\, 4502
CATEGORIES:Kräutertreff
END:VEVENT
BEGIN:VEVENT
DTSTART;TZID=Europe/Vienna:20250908T170000
DTEND;TZID=Europe/Vienna:20250908T210000
DTSTAMP:20260421T005748
CREATED:20250817T184531Z
LAST-MODIFIED:20250817T184600Z
UID:1381-1757350800-1757365200@klima-stmarien.at
SUMMARY:Kräutertreff September
DESCRIPTION:“Schafgarbe – die Königin der Volksmedizin”\nKräuterspaziergang & Wissen \n17:00 Uhr – Kräuterspaziergang\, anschließend Besprechung \nKletzmayr Gut\, Niederschöfring 22\, 4502 St. Marien \nInfo: Gemeinde St. Marien\nFr. Pfistermüller\, 07227 8155-11\nFr. Heidi Ruf\, 0699 814 235 52 \nFlyer Kräutertreff September 2025
URL:https://klima-stmarien.at/termin/2025-09/
LOCATION:Seminarhof Kletzmayr\, Niederschöfring 22\, St. Marien\, 4502
CATEGORIES:Kräutertreff
END:VEVENT
BEGIN:VEVENT
DTSTART;TZID=Europe/Vienna:20250414T190000
DTEND;TZID=Europe/Vienna:20250414T210000
DTSTAMP:20260421T005748
CREATED:20250403T180900Z
LAST-MODIFIED:20250403T180900Z
UID:1368-1744657200-1744664400@klima-stmarien.at
SUMMARY:Kräutertreff April
DESCRIPTION:“Der einjährige Beifuss”\n(Artemisia annua)\nein pflanzliches Wunderwerk\nReferentin Mag. Barbara Pühringer \n19:00 Uhr – Kräutertreff / Vortrag im Gasthaus Luger St. Marien \nInfo: Gemeinde St. Marien\nFr. Pfistermüller\, 07227 8155-11\nFr. Heidi Ruf\, 0699 814 235 52 \nFlyer Kräutertreff April 2025
URL:https://klima-stmarien.at/termin/kraeutertreff-2025-04/
LOCATION:Gasthaus Luger\, St. Marien 10\, St. Marien\, 4502
CATEGORIES:Kräutertreff
END:VEVENT
BEGIN:VEVENT
DTSTART;TZID=Europe/Vienna:20250407T190000
DTEND;TZID=Europe/Vienna:20250407T220000
DTSTAMP:20260421T005748
CREATED:20250403T180351Z
LAST-MODIFIED:20250929T184456Z
UID:1366-1744052400-1744063200@klima-stmarien.at
SUMMARY:Treffen des Arbeitskreises Klima- und Bodenbündnis (ABGESAGT)
DESCRIPTION:Dir ist Umwelt- und Klimaschutz wichtig? Du möchtest in deiner Gemeinde an Projekten und Maßnahmen mitarbeiten bzw./und dich im Arbeitskreis engagieren? Dann komm zum nächsten Arbeitskreis-Treffen! \nRückfragen an: \nAlexandra Ziegler\, ziegler.killinger@gmx.at oder 0650/6002288\nSylvia Bina-Waldl\, africa.251@outlook.at oder 0664/2040203\nMaria Schöller\, schoeller.maria@gmail.com oder 0650/7902727
URL:https://klima-stmarien.at/termin/treffen-des-arbeitskreises-klima-und-bodenbuendnis-2025-04-03/
LOCATION:Gasthaus Luger\, St. Marien 10\, St. Marien\, 4502
CATEGORIES:sonstiges
END:VEVENT
BEGIN:VEVENT
DTSTART;TZID=Europe/Vienna:20250405T083000
DTEND;TZID=Europe/Vienna:20250405T120000
DTSTAMP:20260421T005748
CREATED:20250403T181416Z
LAST-MODIFIED:20250403T181503Z
UID:1372-1743841800-1743854400@klima-stmarien.at
SUMMARY:Flurreinigungsaktion 2025
DESCRIPTION:FLURREINIGUNGSAKTION 2025\nam Samstag\, 5. April 2025\nTreffpunkte: 8.30 Uhr Feuerwehrzeughäuser\nder FF St. Marien und Weichstetten\noder\nTreffpunkt: 9.30 Uhr\nFreizeitanlage Nöstlbach\nLiebe Samareinerinnen und Samareiner!\nEin Vormittag für die Sauberkeit unserer Gemeinde. Schnappen Sie Ihre Kinder oder Freunde und helfen Sie mit! Ausgestattet mit Handschuhen und Müllsäcken ziehen kleine Gruppen durch den Ort und sammeln alles ein\, was in den Müll gehört. Zum Abschluss gibt es dann eine kleine Stärkung. \nDer Tag ist für Sie ungünstig? Auch an den Vortagen aufgesammelter Müll darf im Rahmen der Flurreinigungsaktion bei der Feuerwehr vorbeigebracht werden.\nWenn Sie schon vor Samstag unterwegs sein wollen\, bitten wir um Kontaktaufnahme mit Elisabeth Rogl (Tel. 0676/745 27 37). \nBilder schaffen Bewusstsein: Wir laden dazu ein uns Fotos vom Sammeln\, von befüllten Müllsäcken und unserer gesäuberten Natur zukommen zu lassen. \nAls Dankeschön lädt die Gemeinde St. Marien im Anschluss alle TeilnehmerInnen zu einer Jause in die Feuerwehrzeughäuser der FF St. Marien und FF Weichstetten und bei der Freizeitanlage Nöstlbach ein. \nGroßes Dankeschön gilt den Mitgliedern des Arbeitskreises Klima- und Bodenbündnis\, den Pfadfindern Nöstlbach und der FF St. Marien und FF Weichstetten für die Organisation. \nIhr\nBürgermeister\nWalter Lazelsberger \nFlurreinigung 2025 – Einladung Gemeindezeitung
URL:https://klima-stmarien.at/termin/flurreinigungsaktion-2025/
CATEGORIES:sonstiges
END:VEVENT
BEGIN:VEVENT
DTSTART;TZID=Europe/Vienna:20250303T190000
DTEND;TZID=Europe/Vienna:20250303T210000
DTSTAMP:20260421T005748
CREATED:20250216T143434Z
LAST-MODIFIED:20250216T143434Z
UID:1362-1741028400-1741035600@klima-stmarien.at
SUMMARY:Kräutertreff März
DESCRIPTION:“Die Brennessel”\n& ihre vielfältigen Einsatzmöglichkeiten\nReferentin Mag. Barbara Pühringer \n19:00 Uhr – Kräutertreff / Vortrag im Gasthaus Luger St. Marien \nInfo: Gemeinde St. Marien\nFr. Pfistermüller\, 07227 8155-11\nFr. Heidi Ruf\, 0699 814 235 52 \nFlyer Kräutertreff März 2025
URL:https://klima-stmarien.at/termin/kraeutertreff-2025-03/
LOCATION:Gasthaus Luger\, St. Marien 10\, St. Marien\, 4502
END:VEVENT
BEGIN:VEVENT
DTSTART;TZID=Europe/Vienna:20250211T190000
DTEND;TZID=Europe/Vienna:20250211T210000
DTSTAMP:20260421T005748
CREATED:20240930T192051Z
LAST-MODIFIED:20250203T100730Z
UID:1260-1739300400-1739307600@klima-stmarien.at
SUMMARY:Treffen des Arbeitskreises Klima- und Bodenbündnis (Terminverschiebung!)
DESCRIPTION:Dir ist Umwelt- und Klimaschutz wichtig? Du möchtest in deiner Gemeinde an Projekten und Maßnahmen mitarbeiten bzw./und dich im Arbeitskreis engagieren? Dann komm zum nächsten Arbeitskreis-Treffen! \nRückfragen an: \nAlexandra Ziegler\, ziegler.killinger@gmx.at oder 0650/6002288\nSylvia Bina-Waldl\, africa.251@outlook.at oder 0664/2040203\nMaria Schöller\, schoeller.maria@gmail.com oder 0650/7902727
URL:https://klima-stmarien.at/termin/treffen-des-arbeitskreises-klima-und-bodenbuendnis-4/
LOCATION:KIMST\, St. Marien 35\, St. Marien\, 4502\, Austria
CATEGORIES:sonstiges
END:VEVENT
BEGIN:VEVENT
DTSTART;TZID=Europe/Vienna:20250210T190000
DTEND;TZID=Europe/Vienna:20250210T210000
DTSTAMP:20260421T005748
CREATED:20250124T192824Z
LAST-MODIFIED:20250124T193129Z
UID:1339-1739214000-1739221200@klima-stmarien.at
SUMMARY:Kräutertreff
DESCRIPTION:“Keimlinge & Sprossen”\nDie Powernahrung für den Körper\nReferentin Mag. Barbara PühringerInfo \n19:00 Uhr – Kräutertreff / Vortrag im Gasthaus Luger St. Marien \nInfo: Gemeinde St. Marien\nFr. Pfistermüller\, 07227 8155-11\nFr. Heidi Ruf\, 0699 814 235 52 \nKräutertreff Flyer Februar 2025
URL:https://klima-stmarien.at/termin/kraeutertreff-2025-02/
LOCATION:Gasthaus Luger\, St. Marien 10\, St. Marien\, 4502
CATEGORIES:Kräutertreff
END:VEVENT
BEGIN:VEVENT
DTSTART;TZID=Europe/Vienna:20250117T190000
DTEND;TZID=Europe/Vienna:20250117T213000
DTSTAMP:20260421T005748
CREATED:20240930T192148Z
LAST-MODIFIED:20241228T163511Z
UID:1262-1737140400-1737149400@klima-stmarien.at
SUMMARY:Filmabend: Tagebuch einer Biene
DESCRIPTION:Wie wäre es\, wenn wir gemeinsam auf eine ganz besondere Reise gehen? Eine Reise in die faszinierende Welt einer kleinen\, aber wichtigen Mitspielerin unseres Ökosystems: der Honigbiene. \n  \nIn den vergangenen Monaten haben wir uns beim AK Klima- und Bodenbündnis dafür eingesetzt\, das Nahrungsangebot für Honig- und Wildbienen sowie deren entferntere Verwandte in unserer Gemeinde zu erhöhen. Nun lasst uns mal sehen\, wie so eine Landschaft aus Bienen-Perspektive aussieht! \nDer traditionelle Filmabend des AK Klima- und Bodenbündnis findet auch dieses Mal in Kooperation mit der Pfarre St. Marien statt: \nFreitag\, 17. Januar 2025\, ab 19 Uhr im Pfarrheim St. Marien \nLassen wir uns verzaubern von den erstaunlichen Einblicken in das Leben dieser fleißigen Insekten. Im Anschluss an den Film laden wir alle\, die wollen\, zum gemütlichen Beisammensein bei einem Honigbrot ein. \nDer Eintritt ist frei – über eine kleine Spende für die Raumnutzung freuen wir uns.
URL:https://klima-stmarien.at/termin/filmabend-2025-01/
LOCATION:Pfarrheim St. Marien\, St. Marien 6\, St. Marien\, 4502\, Austria
CATEGORIES:sonstiges
ATTACH;FMTTYPE=image/jpeg:https://klima-stmarien.at/wp-content/uploads/2024/09/Filmabend_2025-tagebuch-einer-biene.jpg
END:VEVENT
BEGIN:VEVENT
DTSTART;TZID=Europe/Vienna:20241202T190000
DTEND;TZID=Europe/Vienna:20241202T233000
DTSTAMP:20260421T005748
CREATED:20240930T192005Z
LAST-MODIFIED:20240930T192005Z
UID:1258-1733166000-1733182200@klima-stmarien.at
SUMMARY:Treffen des Arbeitskreises Klima- und Bodenbündnis (Weihnachtsfeier)
DESCRIPTION:Dir ist Umwelt- und Klimaschutz wichtig? Du möchtest in deiner Gemeinde an Projekten und Maßnahmen mitarbeiten bzw./und dich im Arbeitskreis engagieren? Dann komm zum nächsten Arbeitskreis-Treffen! \nRückfragen an: \nAlexandra Ziegler\, ziegler.killinger@gmx.at oder 0650/6002288\nSylvia Bina-Waldl\, africa.251@outlook.at oder 0664/2040203\nMaria Schöller\, schoeller.maria@gmail.com oder 0650/7902727
URL:https://klima-stmarien.at/termin/treffen-des-arbeitskreises-klima-und-bodenbuendnis-weihnachtsfeier/
LOCATION:Gasthaus Luger\, St. Marien 10\, St. Marien\, 4502
END:VEVENT
BEGIN:VEVENT
DTSTART;TZID=Europe/Vienna:20241111T190000
DTEND;TZID=Europe/Vienna:20241111T210000
DTSTAMP:20260421T005748
CREATED:20241027T181143Z
LAST-MODIFIED:20241027T183115Z
UID:1300-1731351600-1731358800@klima-stmarien.at
SUMMARY:Kräutertreff
DESCRIPTION:“Räuchern” – Brauchtum – Aberglaube – Wissenschaft\nReferent Mag. Dr. Klemens Kraus\nJahresthema “Unsere Bäume”\nBaum des Monats: Fichte \n19:00 Uhr – Kräutertreff / Vortrag im Gasthaus Luger St. Marien \nInfo: Gemeinde St. Marien\nFr. Pfistermüller\, 07227 8155-11\nFr. Heidi Ruf\, 0699 814 235 52 \n–> Kräutertreff Flyer November 2024
URL:https://klima-stmarien.at/termin/kraeutertreff-3/
LOCATION:Gasthaus Luger\, St. Marien 10\, St. Marien\, 4502
CATEGORIES:Kräutertreff
END:VEVENT
BEGIN:VEVENT
DTSTART;TZID=Europe/Vienna:20241025T190000
DTEND;TZID=Europe/Vienna:20241025T210000
DTSTAMP:20260421T005748
CREATED:20240927T131430Z
LAST-MODIFIED:20241006T181428Z
UID:1252-1729882800-1729890000@klima-stmarien.at
SUMMARY:Infoabend: Energiegemeinschaften – regionale Stromkreisläufe
DESCRIPTION:Energiegemeinschaften – regionale Stromkreisläufe“ mit Vorstellung der EG-Vereins „Energiewende Ansfelden“\n \n\nWas sind Energiegemeinschaften?\nWie können sie von Energiegemeinschaften profitieren?\nWer kann dabei mitmachen?\nWelche Möglichkeiten bieten sich nun für die Gemeindebürger:innen von St. Marien?\n\nDer Obmann der Energiegemeinschaft „Energiewende Ansfelden“ – Christian Werenka – stellt uns sein Wissen zur Verfügung. \n \nhttps://www.ew-ansfelden.at/
URL:https://klima-stmarien.at/termin/infoabend-energiegemeinschaften-regionale-stromkreislaeufe/
LOCATION:Gasthaus Luger\, St. Marien 10\, St. Marien\, 4502
CATEGORIES:Klima-Stammtisch,Vortrag
ATTACH;FMTTYPE=image/jpeg:https://klima-stmarien.at/wp-content/uploads/2024/09/Infoabend-vernetzte-Haeuser.jpg
END:VEVENT
BEGIN:VEVENT
DTSTART;TZID=Europe/Vienna:20241014T163000
DTEND;TZID=Europe/Vienna:20241014T210000
DTSTAMP:20260421T005748
CREATED:20240930T193117Z
LAST-MODIFIED:20240930T193617Z
UID:1265-1728923400-1728939600@klima-stmarien.at
SUMMARY:Kräutertreff
DESCRIPTION:“Kräutersalze & Verreibungen für Küche\, Naturheilkunde & Körperpflege”\nReferentin Mag. Barbara Pühringer\nJahresthema “Unsere Bäume”\nBaum des Monats: Rosskastanie \n16:30 Uhr – Kräuterspaziergang / Treffpunkt Gemeindeparkplatz\n19:00 Uhr – Kräutertreff / Gasthaus Luger St. Marien \nInfo: Gemeinde St. Marien\nFr. Pfistermüller\, 07227 8155-11\nFr. Heidi Ruf\, 0699 814 235 52 \n–> Kräutertreff Flyer Oktober 2024
URL:https://klima-stmarien.at/termin/kraeutertreff-2024-10/
LOCATION:Gasthaus Luger\, St. Marien 10\, St. Marien\, 4502
CATEGORIES:Kräutertreff,Kräuterwanderung
ATTACH;FMTTYPE=image/jpeg:https://klima-stmarien.at/wp-content/uploads/2024/09/Kraeutersalz.jpg
END:VEVENT
BEGIN:VEVENT
DTSTART;TZID=Europe/Vienna:20241007T190000
DTEND;TZID=Europe/Vienna:20241007T210000
DTSTAMP:20260421T005748
CREATED:20240930T191734Z
LAST-MODIFIED:20240930T191734Z
UID:1256-1728327600-1728334800@klima-stmarien.at
SUMMARY:Treffen des Arbeitskreises Klima- und Bodenbündnis
DESCRIPTION:Dir ist Umwelt- und Klimaschutz wichtig? Du möchtest in deiner Gemeinde an Projekten und Maßnahmen mitarbeiten bzw./und dich im Arbeitskreis engagieren? Dann komm zum nächsten Arbeitskreis-Treffen! \nRückfragen an: \nAlexandra Ziegler\, ziegler.killinger@gmx.at oder 0650/6002288\nSylvia Bina-Waldl\, africa.251@outlook.at oder 0664/2040203\nMaria Schöller\, schoeller.maria@gmail.com oder 0650/7902727
URL:https://klima-stmarien.at/termin/treffen-des-arbeitskreises-klima-und-bodenbuendnis-3/
LOCATION:KIMST\, St. Marien 35\, St. Marien\, 4502\, Austria
CATEGORIES:sonstiges
END:VEVENT
BEGIN:VEVENT
DTSTART;TZID=Europe/Vienna:20240212T080000
DTEND;TZID=Europe/Vienna:20240212T190000
DTSTAMP:20260421T005748
CREATED:20240209T073243Z
LAST-MODIFIED:20240209T073243Z
UID:1243-1707724800-1707764400@klima-stmarien.at
SUMMARY:Kräutertreff
DESCRIPTION:
URL:https://klima-stmarien.at/termin/kraeutertreff-2/
LOCATION:Gasthaus Luger\, St. Marien 10\, St. Marien\, 4502
ATTACH;FMTTYPE=image/jpeg:https://klima-stmarien.at/wp-content/uploads/2024/02/Februar-scaled.jpg
END:VEVENT
BEGIN:VEVENT
DTSTART;TZID=Europe/Vienna:20231009T163000
DTEND;TZID=Europe/Vienna:20231009T210000
DTSTAMP:20260421T005748
CREATED:20230929T170253Z
LAST-MODIFIED:20231009T053106Z
UID:1222-1696869000-1696885200@klima-stmarien.at
SUMMARY:ABGESAGT: Kräuterwanderung und Kräutertreff: Wurzeln\, Beeren\, Samen\, Harze\, Rinden
DESCRIPTION:Leider musste der Termin kurzfrisitig abgesagt werden! \n16:30 Uhr Kräuterwanderung – Treffpunkt Gemeinde-Parkplatz\n19:00 Uhr : 2. Abend „Wurzeln\, Beeren\, Samen\, Harze\, Rinden“\nSammelzeit und Verarbeitung für Hausapotheke und Küche \n \nKräutertreff Jahresthema 2023: Kräuter & Umwelt \nInfo: Gemeinde St. Marien\,\nFr. Pfistermüller Anna\, 07227-8155-11\nFr. Heidi Ruf\, Handy 0699/814 235 52 \nEinladung als PDF: Oktober_2023
URL:https://klima-stmarien.at/termin/kraeuterwanderung-und-kraeutertreff-2023-10/
LOCATION:Gasthaus Luger\, St. Marien 10\, St. Marien\, 4502
CATEGORIES:Kräutertreff,Kräuterwanderung
END:VEVENT
BEGIN:VEVENT
DTSTART;TZID=Europe/Vienna:20231004T190000
DTEND;TZID=Europe/Vienna:20231004T210000
DTSTAMP:20260421T005748
CREATED:20230908T193124Z
LAST-MODIFIED:20230908T193124Z
UID:1206-1696446000-1696453200@klima-stmarien.at
SUMMARY:Treffen des Arbeitskreises Klima- und Bodenbündnis
DESCRIPTION:Dir ist Umwelt- und Klimaschutz wichtig? Du möchtest in deiner Gemeinde an Projekten und Maßnahmen mitarbeiten bzw./und dich im Arbeitskreis engagieren? Dann komm zum nächsten Arbeitskreis-Treffen!\nBitte um vorherige Anmeldung bei AK-Leiter Josef Winter unter Tel. 0664 6632076 bzw. info@klima-stmarien.at.
URL:https://klima-stmarien.at/termin/treffen-des-arbeitskreises-klima-und-bodenbuendnis-2/
LOCATION:KIMST\, St. Marien 35\, St. Marien\, 4502\, Austria
CATEGORIES:sonstiges
ATTACH;FMTTYPE=image/png:https://klima-stmarien.at/wp-content/uploads/2021/06/Erde_getragen.png
END:VEVENT
BEGIN:VEVENT
DTSTART;TZID=Europe/Vienna:20230911T170000
DTEND;TZID=Europe/Vienna:20230911T210000
DTSTAMP:20260421T005748
CREATED:20230907T163700Z
LAST-MODIFIED:20230907T163803Z
UID:1202-1694451600-1694466000@klima-stmarien.at
SUMMARY:Kräuterwanderung und Kräutertreff: Wurzeln\, Beeren\, Samen\, Harze\, Rinden
DESCRIPTION:17:00 Uhr Kräuterwanderung – Treffpunkt Seminarhof Kletzmayr\, 4502 St. Marien\, Niederschöfring 22\n19:00 Uhr : Vortrag: „Wurzeln\, Beeren\, Samen\, Harze\, Rinden“\nSammelzeit und Verarbeitung für Hausapotheke und Küche Kräutertreff\n \nKräutertreff Jahresthema 2023: Kräuter & Umwelt \nInfo: Gemeinde St. Marien\,\nFr. Pfistermüller Anna\, 07227-8155-11\nFr. Heidi Ruf\, Handy 0699/814 235 52 \nEinladung als PDF: September 2023
URL:https://klima-stmarien.at/termin/kraeuterwanderung-und-kraeutertreff-2023-09/
LOCATION:Seminarhof Kletzmayr\, Niederschöfring 22\, St. Marien\, 4502
CATEGORIES:Kräutertreff,Kräuterwanderung
END:VEVENT
BEGIN:VEVENT
DTSTART;TZID=Europe/Vienna:20230806T100000
DTEND;TZID=Europe/Vienna:20230806T150000
DTSTAMP:20260421T005748
CREATED:20230721T055428Z
LAST-MODIFIED:20230728T151313Z
UID:1193-1691316000-1691334000@klima-stmarien.at
SUMMARY:Kleidertausch
DESCRIPTION:Regeln für den Kleidertausch: \n\nBring max. 5 Bekleidungsstücke mit!\nAusschließlich Kleidung in gutem und saubern Zustand!\nDie gleiche Anzahl an Kleidung die sie mitbringen\, können Sie auch mit nach Hause nehmen!\n\nAnsprechperson: Marlene Hofer \nP.S. der Kleidertausch findet diesmal im Rahmen des Laurenti-Kirtags in Weichstetten statt. Es bietet sich an\, zu Beginn eure Mitbringsel bei uns abzugeben und später bzw. vor dem Heimfahren bei uns zu stöbern und euch neue\, andere Kleidungsstücke im Tausch mitzunehmen. \n 
URL:https://klima-stmarien.at/termin/kleidertausch-2023-08/
LOCATION:PfarrHOF Laurentius\, Weichstetten-West 1\, Weichstetten\, 4502
CATEGORIES:sonstiges
ATTACH;FMTTYPE=image/jpeg:https://klima-stmarien.at/wp-content/uploads/2023/07/St.Marien_Kleidertauschaktion_2023-08-scaled.jpg
END:VEVENT
BEGIN:VEVENT
DTSTART;TZID=Europe/Vienna:20230710T160000
DTEND;TZID=Europe/Vienna:20230710T210000
DTSTAMP:20260421T005748
CREATED:20230702T115625Z
LAST-MODIFIED:20230702T115844Z
UID:1159-1689004800-1689022800@klima-stmarien.at
SUMMARY:Kräuterwanderung und Wildkräuter-Küche Kochkurs
DESCRIPTION:16:00 Uhr Kräuterwanderung\, anschließend\nca. 17:30 Uhr: Wildkräuter Küche – Kochkurs in Kunst Atelier Odela \n„Meutelmühle“; Pichlwang 51\, 4502 St. Marien\nBitte um verbindliche Anmeldung bei Heidi Ruf! \nKräutertreff Jahresthema 2023: Kräuter & Umwelt \nInfo:\nFr. Heidi Ruf\, Handy 0699/814 235 52 \nEinladung als PDF:  Juli_2023
URL:https://klima-stmarien.at/termin/kraeuterwanderung-und-kraeutertreff-2023-07/
END:VEVENT
END:VCALENDAR