BEGIN:VCALENDAR
VERSION:2.0
PRODID:-//Klima- und Bodenbündnis St Marien - ECPv6.15.20//NONSGML v1.0//EN
CALSCALE:GREGORIAN
METHOD:PUBLISH
X-ORIGINAL-URL:https://klima-stmarien.at
X-WR-CALDESC:Veranstaltungen für Klima- und Bodenbündnis St Marien
REFRESH-INTERVAL;VALUE=DURATION:PT1H
X-Robots-Tag:noindex
X-PUBLISHED-TTL:PT1H
BEGIN:VTIMEZONE
TZID:Europe/Vienna
BEGIN:DAYLIGHT
TZOFFSETFROM:+0100
TZOFFSETTO:+0200
TZNAME:CEST
DTSTART:20250330T010000
END:DAYLIGHT
BEGIN:STANDARD
TZOFFSETFROM:+0200
TZOFFSETTO:+0100
TZNAME:CET
DTSTART:20251026T010000
END:STANDARD
BEGIN:DAYLIGHT
TZOFFSETFROM:+0100
TZOFFSETTO:+0200
TZNAME:CEST
DTSTART:20260329T010000
END:DAYLIGHT
BEGIN:STANDARD
TZOFFSETFROM:+0200
TZOFFSETTO:+0100
TZNAME:CET
DTSTART:20261025T010000
END:STANDARD
BEGIN:DAYLIGHT
TZOFFSETFROM:+0100
TZOFFSETTO:+0200
TZNAME:CEST
DTSTART:20270328T010000
END:DAYLIGHT
BEGIN:STANDARD
TZOFFSETFROM:+0200
TZOFFSETTO:+0100
TZNAME:CET
DTSTART:20271031T010000
END:STANDARD
END:VTIMEZONE
BEGIN:VEVENT
DTSTART;TZID=Europe/Vienna:20260116T190000
DTEND;TZID=Europe/Vienna:20260116T210000
DTSTAMP:20260421T055827
CREATED:20251124T180404Z
LAST-MODIFIED:20260109T082833Z
UID:1408-1768590000-1768597200@klima-stmarien.at
SUMMARY:Filmabend: Was wäre\, wenn…? Ein Film über Ökosystem-Regeneration
DESCRIPTION:Es ist wieder Zeit für den \n \nFILMABEND \nFr\, 16.1. ab 19 Uhr im Pfarrheim St. Marien \nvom AK Klima- und Bodenbündnis und der Pfarre St. Marien! \nDieses Jahr wollen wir unsere Handlungsfähigkeit als Menschen in und mit der Natur erkunden – und gemeinsam bestaunen\, was durch kleine gezielte Interventionen\, viel Vertrauen und ein bisschen Zeit möglich wird. Wie inmitten von ökologisch verarmter Kulturlandschaft wieder Paradiese der Lebensvielfalt entstehen können. Kommt vorbei und macht euch bereit zum Staunen! \nKein Eintritt; kleine Spende für das Pfarrheim erbeten. \n \n–> Flyer Filmabend 2026
URL:https://klima-stmarien.at/termin/filmabend-2026-01-16/
LOCATION:Pfarrheim St. Marien\, St. Marien 6\, St. Marien\, 4502\, Austria
CATEGORIES:sonstiges
END:VEVENT
END:VCALENDAR