BEGIN:VCALENDAR
VERSION:2.0
PRODID:-//Klima- und Bodenbündnis St Marien - ECPv6.15.20//NONSGML v1.0//EN
CALSCALE:GREGORIAN
METHOD:PUBLISH
X-ORIGINAL-URL:https://klima-stmarien.at
X-WR-CALDESC:Veranstaltungen für Klima- und Bodenbündnis St Marien
REFRESH-INTERVAL;VALUE=DURATION:PT1H
X-Robots-Tag:noindex
X-PUBLISHED-TTL:PT1H
BEGIN:VTIMEZONE
TZID:Europe/Vienna
BEGIN:DAYLIGHT
TZOFFSETFROM:+0100
TZOFFSETTO:+0200
TZNAME:CEST
DTSTART:20250330T010000
END:DAYLIGHT
BEGIN:STANDARD
TZOFFSETFROM:+0200
TZOFFSETTO:+0100
TZNAME:CET
DTSTART:20251026T010000
END:STANDARD
BEGIN:DAYLIGHT
TZOFFSETFROM:+0100
TZOFFSETTO:+0200
TZNAME:CEST
DTSTART:20260329T010000
END:DAYLIGHT
BEGIN:STANDARD
TZOFFSETFROM:+0200
TZOFFSETTO:+0100
TZNAME:CET
DTSTART:20261025T010000
END:STANDARD
BEGIN:DAYLIGHT
TZOFFSETFROM:+0100
TZOFFSETTO:+0200
TZNAME:CEST
DTSTART:20270328T010000
END:DAYLIGHT
BEGIN:STANDARD
TZOFFSETFROM:+0200
TZOFFSETTO:+0100
TZNAME:CET
DTSTART:20271031T010000
END:STANDARD
END:VTIMEZONE
BEGIN:VEVENT
DTSTART;TZID=Europe/Vienna:20260112T190000
DTEND;TZID=Europe/Vienna:20260112T210000
DTSTAMP:20260421T055319
CREATED:20251230T190257Z
LAST-MODIFIED:20260110T120826Z
UID:1425-1768244400-1768251600@klima-stmarien.at
SUMMARY:Kräutertreff Jänner
DESCRIPTION:“Schüßler Salze” – Die Prise Salz der Traditionellen Europäischen Medizin\n19:00 Uhr – Kräutertreff im GH Luger \nInfo: Gemeinde St. Marien\nBürgerservice\, 07227 8155-10\nFr. Heidi Ruf\, 0699 814 235 52 \n–> Flyer Jänner 2026
URL:https://klima-stmarien.at/termin/kraeutertreff-2026-01/
LOCATION:Gasthaus Luger\, St. Marien 10\, St. Marien\, 4502
CATEGORIES:Kräutertreff
END:VEVENT
END:VCALENDAR