BEGIN:VCALENDAR
VERSION:2.0
PRODID:-//Klima- und Bodenbündnis St Marien - ECPv6.15.20//NONSGML v1.0//EN
CALSCALE:GREGORIAN
METHOD:PUBLISH
X-WR-CALNAME:Klima- und Bodenbündnis St Marien
X-ORIGINAL-URL:https://klima-stmarien.at
X-WR-CALDESC:Veranstaltungen für Klima- und Bodenbündnis St Marien
REFRESH-INTERVAL;VALUE=DURATION:PT1H
X-Robots-Tag:noindex
X-PUBLISHED-TTL:PT1H
BEGIN:VTIMEZONE
TZID:Europe/Vienna
BEGIN:DAYLIGHT
TZOFFSETFROM:+0100
TZOFFSETTO:+0200
TZNAME:CEST
DTSTART:20230326T010000
END:DAYLIGHT
BEGIN:STANDARD
TZOFFSETFROM:+0200
TZOFFSETTO:+0100
TZNAME:CET
DTSTART:20231029T010000
END:STANDARD
BEGIN:DAYLIGHT
TZOFFSETFROM:+0100
TZOFFSETTO:+0200
TZNAME:CEST
DTSTART:20240331T010000
END:DAYLIGHT
BEGIN:STANDARD
TZOFFSETFROM:+0200
TZOFFSETTO:+0100
TZNAME:CET
DTSTART:20241027T010000
END:STANDARD
BEGIN:DAYLIGHT
TZOFFSETFROM:+0100
TZOFFSETTO:+0200
TZNAME:CEST
DTSTART:20250330T010000
END:DAYLIGHT
BEGIN:STANDARD
TZOFFSETFROM:+0200
TZOFFSETTO:+0100
TZNAME:CET
DTSTART:20251026T010000
END:STANDARD
END:VTIMEZONE
BEGIN:VEVENT
DTSTART;TZID=Europe/Vienna:20241111T190000
DTEND;TZID=Europe/Vienna:20241111T210000
DTSTAMP:20260422T030458
CREATED:20241027T181143Z
LAST-MODIFIED:20241027T183115Z
UID:1300-1731351600-1731358800@klima-stmarien.at
SUMMARY:Kräutertreff
DESCRIPTION:“Räuchern” – Brauchtum – Aberglaube – Wissenschaft\nReferent Mag. Dr. Klemens Kraus\nJahresthema “Unsere Bäume”\nBaum des Monats: Fichte \n19:00 Uhr – Kräutertreff / Vortrag im Gasthaus Luger St. Marien \nInfo: Gemeinde St. Marien\nFr. Pfistermüller\, 07227 8155-11\nFr. Heidi Ruf\, 0699 814 235 52 \n–> Kräutertreff Flyer November 2024
URL:https://klima-stmarien.at/termin/kraeutertreff-3/
LOCATION:Gasthaus Luger\, St. Marien 10\, St. Marien\, 4502
CATEGORIES:Kräutertreff
END:VEVENT
END:VCALENDAR