BEGIN:VCALENDAR
VERSION:2.0
PRODID:-//Klima- und Bodenbündnis St Marien - ECPv6.15.20//NONSGML v1.0//EN
CALSCALE:GREGORIAN
METHOD:PUBLISH
X-WR-CALNAME:Klima- und Bodenbündnis St Marien
X-ORIGINAL-URL:https://klima-stmarien.at
X-WR-CALDESC:Veranstaltungen für Klima- und Bodenbündnis St Marien
REFRESH-INTERVAL;VALUE=DURATION:PT1H
X-Robots-Tag:noindex
X-PUBLISHED-TTL:PT1H
BEGIN:VTIMEZONE
TZID:Europe/Vienna
BEGIN:DAYLIGHT
TZOFFSETFROM:+0100
TZOFFSETTO:+0200
TZNAME:CEST
DTSTART:20230326T010000
END:DAYLIGHT
BEGIN:STANDARD
TZOFFSETFROM:+0200
TZOFFSETTO:+0100
TZNAME:CET
DTSTART:20231029T010000
END:STANDARD
BEGIN:DAYLIGHT
TZOFFSETFROM:+0100
TZOFFSETTO:+0200
TZNAME:CEST
DTSTART:20240331T010000
END:DAYLIGHT
BEGIN:STANDARD
TZOFFSETFROM:+0200
TZOFFSETTO:+0100
TZNAME:CET
DTSTART:20241027T010000
END:STANDARD
BEGIN:DAYLIGHT
TZOFFSETFROM:+0100
TZOFFSETTO:+0200
TZNAME:CEST
DTSTART:20250330T010000
END:DAYLIGHT
BEGIN:STANDARD
TZOFFSETFROM:+0200
TZOFFSETTO:+0100
TZNAME:CET
DTSTART:20251026T010000
END:STANDARD
END:VTIMEZONE
BEGIN:VEVENT
DTSTART;TZID=Europe/Vienna:20241007T190000
DTEND;TZID=Europe/Vienna:20241007T210000
DTSTAMP:20260422T043647
CREATED:20240930T191734Z
LAST-MODIFIED:20240930T191734Z
UID:1256-1728327600-1728334800@klima-stmarien.at
SUMMARY:Treffen des Arbeitskreises Klima- und Bodenbündnis
DESCRIPTION:Dir ist Umwelt- und Klimaschutz wichtig? Du möchtest in deiner Gemeinde an Projekten und Maßnahmen mitarbeiten bzw./und dich im Arbeitskreis engagieren? Dann komm zum nächsten Arbeitskreis-Treffen! \nRückfragen an: \nAlexandra Ziegler\, ziegler.killinger@gmx.at oder 0650/6002288\nSylvia Bina-Waldl\, africa.251@outlook.at oder 0664/2040203\nMaria Schöller\, schoeller.maria@gmail.com oder 0650/7902727
URL:https://klima-stmarien.at/termin/treffen-des-arbeitskreises-klima-und-bodenbuendnis-3/
LOCATION:KIMST\, St. Marien 35\, St. Marien\, 4502\, Austria
CATEGORIES:sonstiges
END:VEVENT
END:VCALENDAR