BEGIN:VCALENDAR
VERSION:2.0
PRODID:-//Klima- und Bodenbündnis St Marien - ECPv6.15.20//NONSGML v1.0//EN
CALSCALE:GREGORIAN
METHOD:PUBLISH
X-ORIGINAL-URL:https://klima-stmarien.at
X-WR-CALDESC:Veranstaltungen für Klima- und Bodenbündnis St Marien
REFRESH-INTERVAL;VALUE=DURATION:PT1H
X-Robots-Tag:noindex
X-PUBLISHED-TTL:PT1H
BEGIN:VTIMEZONE
TZID:Europe/Vienna
BEGIN:DAYLIGHT
TZOFFSETFROM:+0100
TZOFFSETTO:+0200
TZNAME:CEST
DTSTART:20220327T010000
END:DAYLIGHT
BEGIN:STANDARD
TZOFFSETFROM:+0200
TZOFFSETTO:+0100
TZNAME:CET
DTSTART:20221030T010000
END:STANDARD
BEGIN:DAYLIGHT
TZOFFSETFROM:+0100
TZOFFSETTO:+0200
TZNAME:CEST
DTSTART:20230326T010000
END:DAYLIGHT
BEGIN:STANDARD
TZOFFSETFROM:+0200
TZOFFSETTO:+0100
TZNAME:CET
DTSTART:20231029T010000
END:STANDARD
BEGIN:DAYLIGHT
TZOFFSETFROM:+0100
TZOFFSETTO:+0200
TZNAME:CEST
DTSTART:20240331T010000
END:DAYLIGHT
BEGIN:STANDARD
TZOFFSETFROM:+0200
TZOFFSETTO:+0100
TZNAME:CET
DTSTART:20241027T010000
END:STANDARD
END:VTIMEZONE
BEGIN:VEVENT
DTSTART;TZID=Europe/Vienna:20230313T190000
DTEND;TZID=Europe/Vienna:20230313T210000
DTSTAMP:20260423T102014
CREATED:20230224T070307Z
LAST-MODIFIED:20230224T193147Z
UID:1026-1678734000-1678741200@klima-stmarien.at
SUMMARY:Kräutertreff: Würzen mit Kräutern
DESCRIPTION:Würzen mit Kräutern – mehr als nur Aroma  \nGartenkräuter\nWildkräuter\nMit Verkauf von Gartenkräutern \nKräutertreff Jahresthema 2023: Kräuter & Umwelt \nInfo: Gemeinde St. Marien\,\nFr. Pfistermüller Anna\, 07227-8155-11\nFr. Heidi Ruf\, Handy 0699/814 235 52 \nEinladung als PDF: März 2023 \nFotos von Beitrag: w.r.wagner / pixelio.de
URL:https://klima-stmarien.at/termin/kraeutertreff-wuerzen-mit-kraeutern/
LOCATION:Gasthaus Luger\, St. Marien 10\, St. Marien\, 4502
CATEGORIES:Kräutertreff
ATTACH;FMTTYPE=image/jpeg:https://klima-stmarien.at/wp-content/uploads/2023/02/Kraeutertreff-Maerz-2023-2.jpg
END:VEVENT
END:VCALENDAR