BEGIN:VCALENDAR
VERSION:2.0
PRODID:-//Klima- und Bodenbündnis St Marien - ECPv6.15.20//NONSGML v1.0//EN
CALSCALE:GREGORIAN
METHOD:PUBLISH
X-WR-CALNAME:Klima- und Bodenbündnis St Marien
X-ORIGINAL-URL:https://klima-stmarien.at
X-WR-CALDESC:Veranstaltungen für Klima- und Bodenbündnis St Marien
REFRESH-INTERVAL;VALUE=DURATION:PT1H
X-Robots-Tag:noindex
X-PUBLISHED-TTL:PT1H
BEGIN:VTIMEZONE
TZID:Europe/Vienna
BEGIN:DAYLIGHT
TZOFFSETFROM:+0100
TZOFFSETTO:+0200
TZNAME:CEST
DTSTART:20220327T010000
END:DAYLIGHT
BEGIN:STANDARD
TZOFFSETFROM:+0200
TZOFFSETTO:+0100
TZNAME:CET
DTSTART:20221030T010000
END:STANDARD
BEGIN:DAYLIGHT
TZOFFSETFROM:+0100
TZOFFSETTO:+0200
TZNAME:CEST
DTSTART:20230326T010000
END:DAYLIGHT
BEGIN:STANDARD
TZOFFSETFROM:+0200
TZOFFSETTO:+0100
TZNAME:CET
DTSTART:20231029T010000
END:STANDARD
BEGIN:DAYLIGHT
TZOFFSETFROM:+0100
TZOFFSETTO:+0200
TZNAME:CEST
DTSTART:20240331T010000
END:DAYLIGHT
BEGIN:STANDARD
TZOFFSETFROM:+0200
TZOFFSETTO:+0100
TZNAME:CET
DTSTART:20241027T010000
END:STANDARD
END:VTIMEZONE
BEGIN:VEVENT
DTSTART;TZID=Europe/Vienna:20230120T190000
DTEND;TZID=Europe/Vienna:20230120T210000
DTSTAMP:20260423T131850
CREATED:20221125T132053Z
LAST-MODIFIED:20221125T132053Z
UID:961-1674241200-1674248400@klima-stmarien.at
SUMMARY:FILMABEND: „BAUER UNSER“
DESCRIPTION:Der Arbeitskreis Klima- und Bodenbündnis lädt ein gemeinsam den Film „Bauer unser“ anzusehen und anschließend darüber zu diskutieren.\n \nDer Dokumentarfilm zeigt gleichermaßen ungeschönt wie unaufgeregt wie es auf Österreichs Bauernhöfen zugeht. Schabus bleibt vordergründig unparteiisch. Doch so vielfältig die Bauern\, vom Biobauern bis zum konventionellen Agraringenieur\, so einhellig der Tenor: So wird es nicht weitergehen. Es läuft etwas falsch. Das Mantra der Industrie – schneller\, billiger\, mehr – stellen die meisten von ihnen in Frage. \nBAUER UNSER ist ein sehenswerter Film\, der zeigt\, wie Wirtschaftspolitik und Gesellschaft immer öfter vor der Industrie kapitulieren. Es sind keine rosigen Bilder\, und doch gibt es Momente der Hoffnung. Etwa wenn der Vorarlberger Gemüsebauer und Rinderzüchter Simon Vetter stolz darauf ist\, ein Bauer zu sein\, der seine Kunden kennt und der Entfremdung entgegenhält. Oder wenn die Weinviertler Bio-Schafzüchterin Maria Vogt händisch Schafe melkt und frohlockt\, Hey\, es geht ja auch ganz anders! \nBAUER UNSER ist ein Film\, der Lust macht\, dem Bauern ums Eck einen Besuch abzustatten\, bewusst heimische Lebensmittel zu genießen – und auch als KonsumentIn das Bekenntnis abzulegen: “Bauer unser”.. \nOffizielle Website des Films: https://www.filmladen.at/bauer.unser
URL:https://klima-stmarien.at/termin/filmabend-bauer-unser/
LOCATION:Gasthaus Luger\, St. Marien 10\, St. Marien\, 4502
CATEGORIES:sonstiges
ATTACH;FMTTYPE=image/jpeg:https://klima-stmarien.at/wp-content/uploads/2022/11/Film-suijt_Bauer_user.jpg
END:VEVENT
END:VCALENDAR