BEGIN:VCALENDAR
VERSION:2.0
PRODID:-//Klima- und Bodenbündnis St Marien - ECPv6.15.20//NONSGML v1.0//EN
CALSCALE:GREGORIAN
METHOD:PUBLISH
X-WR-CALNAME:Klima- und Bodenbündnis St Marien
X-ORIGINAL-URL:https://klima-stmarien.at
X-WR-CALDESC:Veranstaltungen für Klima- und Bodenbündnis St Marien
REFRESH-INTERVAL;VALUE=DURATION:PT1H
X-Robots-Tag:noindex
X-PUBLISHED-TTL:PT1H
BEGIN:VTIMEZONE
TZID:Europe/Vienna
BEGIN:DAYLIGHT
TZOFFSETFROM:+0100
TZOFFSETTO:+0200
TZNAME:CEST
DTSTART:20210328T010000
END:DAYLIGHT
BEGIN:STANDARD
TZOFFSETFROM:+0200
TZOFFSETTO:+0100
TZNAME:CET
DTSTART:20211031T010000
END:STANDARD
BEGIN:DAYLIGHT
TZOFFSETFROM:+0100
TZOFFSETTO:+0200
TZNAME:CEST
DTSTART:20220327T010000
END:DAYLIGHT
BEGIN:STANDARD
TZOFFSETFROM:+0200
TZOFFSETTO:+0100
TZNAME:CET
DTSTART:20221030T010000
END:STANDARD
BEGIN:DAYLIGHT
TZOFFSETFROM:+0100
TZOFFSETTO:+0200
TZNAME:CEST
DTSTART:20230326T010000
END:DAYLIGHT
BEGIN:STANDARD
TZOFFSETFROM:+0200
TZOFFSETTO:+0100
TZNAME:CET
DTSTART:20231029T010000
END:STANDARD
END:VTIMEZONE
BEGIN:VEVENT
DTSTART;TZID=Europe/Vienna:20220430T080000
DTEND;TZID=Europe/Vienna:20220430T120000
DTSTAMP:20260424T011632
CREATED:20220227T060501Z
LAST-MODIFIED:20220424T182527Z
UID:654-1651305600-1651320000@klima-stmarien.at
SUMMARY:Arbeitskreis KBB am Blumen- und Pflanzenmarkt der Pfarre
DESCRIPTION:Die Pfarre wird wieder den Markt für Selbstverkäufer abhalten (Kontakt: Agnes Blaimschein\, Tel. 0680/201 2918) – auch wir als Arbeitskreis Klima- und Bodenbündnis wird dieses Jahr wieder mit einem Stand vertreten sein.\nNeben verschiedenen Gemüse- und Insekten-freundlichen Pflanzen sowie Blumensamen wird es auch fachliche Infos geben.
URL:https://klima-stmarien.at/termin/blumen-und-pflanzenmarkt-der-pfarre/
LOCATION:Pfarrheim St. Marien\, St. Marien 6\, St. Marien\, 4502\, Austria
CATEGORIES:sonstiges
ATTACH;FMTTYPE=image/jpeg:https://klima-stmarien.at/wp-content/uploads/2021/03/IMG_20200823_123515-scaled.jpg
END:VEVENT
END:VCALENDAR