BEGIN:VCALENDAR
VERSION:2.0
PRODID:-//Klima- und Bodenbündnis St Marien - ECPv6.15.20//NONSGML v1.0//EN
CALSCALE:GREGORIAN
METHOD:PUBLISH
X-WR-CALNAME:Klima- und Bodenbündnis St Marien
X-ORIGINAL-URL:https://klima-stmarien.at
X-WR-CALDESC:Veranstaltungen für Klima- und Bodenbündnis St Marien
REFRESH-INTERVAL;VALUE=DURATION:PT1H
X-Robots-Tag:noindex
X-PUBLISHED-TTL:PT1H
BEGIN:VTIMEZONE
TZID:Europe/Vienna
BEGIN:DAYLIGHT
TZOFFSETFROM:+0100
TZOFFSETTO:+0200
TZNAME:CEST
DTSTART:20210328T010000
END:DAYLIGHT
BEGIN:STANDARD
TZOFFSETFROM:+0200
TZOFFSETTO:+0100
TZNAME:CET
DTSTART:20211031T010000
END:STANDARD
BEGIN:DAYLIGHT
TZOFFSETFROM:+0100
TZOFFSETTO:+0200
TZNAME:CEST
DTSTART:20220327T010000
END:DAYLIGHT
BEGIN:STANDARD
TZOFFSETFROM:+0200
TZOFFSETTO:+0100
TZNAME:CET
DTSTART:20221030T010000
END:STANDARD
BEGIN:DAYLIGHT
TZOFFSETFROM:+0100
TZOFFSETTO:+0200
TZNAME:CEST
DTSTART:20230326T010000
END:DAYLIGHT
BEGIN:STANDARD
TZOFFSETFROM:+0200
TZOFFSETTO:+0100
TZNAME:CET
DTSTART:20231029T010000
END:STANDARD
END:VTIMEZONE
BEGIN:VEVENT
DTSTART;TZID=Europe/Vienna:20220419T190000
DTEND;TZID=Europe/Vienna:20220419T210000
DTSTAMP:20260424T025331
CREATED:20220302T175558Z
LAST-MODIFIED:20220302T190518Z
UID:656-1650394800-1650402000@klima-stmarien.at
SUMMARY:Klima-Stammtisch: Heizungstausch „AdieuÖl“ & Photovoltaik
DESCRIPTION:Aktuelle Fakten\nHerausforderungen & Rahmenbedingungen/Förderungen\nAustausch zwischen den Teilnehmern\n\nEinladung als PDF: Klimastammtisch_2022_04
URL:https://klima-stmarien.at/termin/klima-stammtisch-heizungstausch-adieuoel-photovoltaik/
LOCATION:Gasthaus Luger\, St. Marien 10\, St. Marien\, 4502
CATEGORIES:Klima-Stammtisch
ATTACH;FMTTYPE=image/png:https://klima-stmarien.at/wp-content/uploads/2020/06/grafik-1.png
END:VEVENT
END:VCALENDAR