BEGIN:VCALENDAR
VERSION:2.0
PRODID:-//Klima- und Bodenbündnis St Marien - ECPv6.15.20//NONSGML v1.0//EN
CALSCALE:GREGORIAN
METHOD:PUBLISH
X-ORIGINAL-URL:https://klima-stmarien.at
X-WR-CALDESC:Veranstaltungen für Klima- und Bodenbündnis St Marien
REFRESH-INTERVAL;VALUE=DURATION:PT1H
X-Robots-Tag:noindex
X-PUBLISHED-TTL:PT1H
BEGIN:VTIMEZONE
TZID:Europe/Vienna
BEGIN:DAYLIGHT
TZOFFSETFROM:+0100
TZOFFSETTO:+0200
TZNAME:CEST
DTSTART:20210328T010000
END:DAYLIGHT
BEGIN:STANDARD
TZOFFSETFROM:+0200
TZOFFSETTO:+0100
TZNAME:CET
DTSTART:20211031T010000
END:STANDARD
BEGIN:DAYLIGHT
TZOFFSETFROM:+0100
TZOFFSETTO:+0200
TZNAME:CEST
DTSTART:20220327T010000
END:DAYLIGHT
BEGIN:STANDARD
TZOFFSETFROM:+0200
TZOFFSETTO:+0100
TZNAME:CET
DTSTART:20221030T010000
END:STANDARD
BEGIN:DAYLIGHT
TZOFFSETFROM:+0100
TZOFFSETTO:+0200
TZNAME:CEST
DTSTART:20230326T010000
END:DAYLIGHT
BEGIN:STANDARD
TZOFFSETFROM:+0200
TZOFFSETTO:+0100
TZNAME:CET
DTSTART:20231029T010000
END:STANDARD
END:VTIMEZONE
BEGIN:VEVENT
DTSTART;TZID=Europe/Vienna:20220402T080000
DTEND;TZID=Europe/Vienna:20220402T140000
DTSTAMP:20260424T024637
CREATED:20211222T163036Z
LAST-MODIFIED:20220330T173108Z
UID:599-1648886400-1648908000@klima-stmarien.at
SUMMARY:Flurreinigungsaktion 2022
DESCRIPTION:Der Ablauf wird in ähnlicher Form wie im letzten Jahr stattfinden: \n\nGemeinsam – unter Einhaltung der Covid-19-Vorsichtsmaßnahmen – säubern wir die Natur in unserem Gemeindegebiet.\nWir organisieren uns in den Tagen vor der Aktion telefonisch oder per E-Mail (z.B. Klärung der Frage: „Wer geht mit wem welche Bereiche ab?“).\nAllen TeilnehmerInnen werden in der Woche vor und am Tag der Flurreinigungsaktion Müllsäcke für den Einsatz zur Verfügung gestellt (abzuholen am Gemeindeamt bzw. am 2. April ab 8.00 Uhr im Bauhof).\nDie bei der Aktion befüllten Müllsäcke können am Tag der Aktion an Sammelplätzen in jedem Ortsteil abgegeben werden (St. Marien: Bauhof\,\nWeichstetten: Freizeitanlage\, Nöstlbach: Freizeitanlage).\nWir ersuchen nur in Kleingruppen (Abstandsregeln/Maske) oder in Gruppen mit Personen\, die alle demselben Haushalt angehören\, teilzunehmen.\nWer kann\, den bitten wir\, diesmal auch einen gelben Sack mitzunehmen\, um Verpackungsmaterial zu trennen.\nBilder schaffen Bewusstsein: Wir laden dazu ein\, uns Fotos vom Sammeln\, von befüllten Müllsäcken und unserer gesäuberten Natur zukommen zu lassen.\n\nWir bitten um Anmeldung bis Donnerstag\, 31. März 2022!\nAnmeldung und Informationen: Dr. Bernd Reichl (Klima- und Bodenbündnis St. Marien)\,\nTel. 0676/625 69 35\, E-mail: info@klima-stmarien.at \n 
URL:https://klima-stmarien.at/termin/flurreinigungsaktion-2022/
CATEGORIES:sonstiges
END:VEVENT
END:VCALENDAR