BEGIN:VCALENDAR
VERSION:2.0
PRODID:-//Klima- und Bodenbündnis St Marien - ECPv6.15.20//NONSGML v1.0//EN
CALSCALE:GREGORIAN
METHOD:PUBLISH
X-ORIGINAL-URL:https://klima-stmarien.at
X-WR-CALDESC:Veranstaltungen für Klima- und Bodenbündnis St Marien
REFRESH-INTERVAL;VALUE=DURATION:PT1H
X-Robots-Tag:noindex
X-PUBLISHED-TTL:PT1H
BEGIN:VTIMEZONE
TZID:Europe/Vienna
BEGIN:DAYLIGHT
TZOFFSETFROM:+0100
TZOFFSETTO:+0200
TZNAME:CEST
DTSTART:20210328T010000
END:DAYLIGHT
BEGIN:STANDARD
TZOFFSETFROM:+0200
TZOFFSETTO:+0100
TZNAME:CET
DTSTART:20211031T010000
END:STANDARD
BEGIN:DAYLIGHT
TZOFFSETFROM:+0100
TZOFFSETTO:+0200
TZNAME:CEST
DTSTART:20220327T010000
END:DAYLIGHT
BEGIN:STANDARD
TZOFFSETFROM:+0200
TZOFFSETTO:+0100
TZNAME:CET
DTSTART:20221030T010000
END:STANDARD
BEGIN:DAYLIGHT
TZOFFSETFROM:+0100
TZOFFSETTO:+0200
TZNAME:CEST
DTSTART:20230326T010000
END:DAYLIGHT
BEGIN:STANDARD
TZOFFSETFROM:+0200
TZOFFSETTO:+0100
TZNAME:CET
DTSTART:20231029T010000
END:STANDARD
END:VTIMEZONE
BEGIN:VEVENT
DTSTART;TZID=Europe/Vienna:20220401T160000
DTEND;TZID=Europe/Vienna:20220401T190000
DTSTAMP:20260424T024644
CREATED:20220113T192340Z
LAST-MODIFIED:20220330T170436Z
UID:619-1648828800-1648839600@klima-stmarien.at
SUMMARY:ABGESAGT: Kräutertreff - Workshop „Boden - Basis des Gartenerfolgs“
DESCRIPTION:Den Boden aus dem eigenen Garten selbständig untersuchen. Information und Unterlagen bei\nAnmeldung.\nWorkshop-Leiter: Hr. Dipl. Ing. Sommer vom Bodenbündnis OÖ \nACHTUNG: Es können maximal 10 Personen am Workshop teilnehmen – bitte um Voranmeldung bei Ruf Heidi! \nEinladungs-Flyer: April Workshop A4 2022 \n 
URL:https://klima-stmarien.at/termin/kraeutertreff-workshop-bodenbuendnis/
LOCATION:KIMST\, St. Marien 35\, St. Marien\, 4502\, Austria
CATEGORIES:Kräutertreff,sonstiges
ATTACH;FMTTYPE=image/jpeg:https://klima-stmarien.at/wp-content/uploads/2022/01/Regenwurm.jpg
END:VEVENT
END:VCALENDAR