BEGIN:VCALENDAR
VERSION:2.0
PRODID:-//Klima- und Bodenbündnis St Marien - ECPv6.15.20//NONSGML v1.0//EN
CALSCALE:GREGORIAN
METHOD:PUBLISH
X-ORIGINAL-URL:https://klima-stmarien.at
X-WR-CALDESC:Veranstaltungen für Klima- und Bodenbündnis St Marien
REFRESH-INTERVAL;VALUE=DURATION:PT1H
X-Robots-Tag:noindex
X-PUBLISHED-TTL:PT1H
BEGIN:VTIMEZONE
TZID:Europe/Vienna
BEGIN:DAYLIGHT
TZOFFSETFROM:+0100
TZOFFSETTO:+0200
TZNAME:CEST
DTSTART:20210328T010000
END:DAYLIGHT
BEGIN:STANDARD
TZOFFSETFROM:+0200
TZOFFSETTO:+0100
TZNAME:CET
DTSTART:20211031T010000
END:STANDARD
BEGIN:DAYLIGHT
TZOFFSETFROM:+0100
TZOFFSETTO:+0200
TZNAME:CEST
DTSTART:20220327T010000
END:DAYLIGHT
BEGIN:STANDARD
TZOFFSETFROM:+0200
TZOFFSETTO:+0100
TZNAME:CET
DTSTART:20221030T010000
END:STANDARD
BEGIN:DAYLIGHT
TZOFFSETFROM:+0100
TZOFFSETTO:+0200
TZNAME:CEST
DTSTART:20230326T010000
END:DAYLIGHT
BEGIN:STANDARD
TZOFFSETFROM:+0200
TZOFFSETTO:+0100
TZNAME:CET
DTSTART:20231029T010000
END:STANDARD
END:VTIMEZONE
BEGIN:VEVENT
DTSTART;TZID=Europe/Vienna:20220210T190000
DTEND;TZID=Europe/Vienna:20220210T210000
DTSTAMP:20260424T060142
CREATED:20220128T170810Z
LAST-MODIFIED:20220128T170810Z
UID:626-1644519600-1644526800@klima-stmarien.at
SUMMARY:1. Arbeitsgruppen-Treffen für Vorbereitung Klima- und Gesundheitstag
DESCRIPTION:Wenn du dich bei der Vorbereitung/Abhaltung des Klima- und Gesundheitstages am 24.9.2022 einbringen möchtest\, bist du bei diesem Treffen richtig! Für die Zusendung der Zoom-Links sende bitte ein EMail an info@klima-stmarien.at
URL:https://klima-stmarien.at/termin/1-arbeitsgruppen-treffen-fuer-vorbereitung-klima-und-gesundheitstag/
LOCATION:Online
CATEGORIES:sonstiges
END:VEVENT
END:VCALENDAR